BEGIN:VCALENDAR
VERSION:2.0
PRODID:-//ChamberMaster//Event Calendar 2.0//EN
METHOD:PUBLISH
X-PUBLISHED-TTL:P3D
REFRESH-INTERVAL:P3D
CALSCALE:GREGORIAN
BEGIN:VEVENT
DTSTART:20210505T130000Z
DTEND:20210505T160000Z
X-MICROSOFT-CDO-ALLDAYEVENT:FALSE
SUMMARY:Ohio SBDC Webinar- Creating the New Retail Experience
DESCRIPTION:Growing your business by converting more personal & digital visits into sales\, is more than just a sales number. To increase conversations & sales\, you have to provide a consistent & unique experience for the client & the prospective client.
X-ALT-DESC;FMTTYPE=text/html:<span style="font-family: Arial\, Helvetica\, sans-serif\; font-size: 12px\; background-color: rgb(246\, 246\, 246)\;">Growing your business by converting more personal &amp\; digital visits into sales\, is more than just a sales number. To increase conversations &amp\; sales\, you have to provide a consistent &amp\; unique experience for the client &amp\; the prospective client.</span>
LOCATION:Virtual
UID:e.1451.15030
SEQUENCE:3
DTSTAMP:20260424T124352Z
URL:https://business.pickeringtonchamber.com/events/details/ohio-sbdc-webinar-creating-the-new-retail-experience-15030
END:VEVENT

END:VCALENDAR
