BEGIN:VCALENDAR
VERSION:2.0
PRODID:-//ChamberMaster//Event Calendar 2.0//EN
METHOD:PUBLISH
X-PUBLISHED-TTL:P3D
REFRESH-INTERVAL:P3D
CALSCALE:GREGORIAN
BEGIN:VEVENT
DTSTART:20210511T130000Z
DTEND:20210511T143000Z
X-MICROSOFT-CDO-ALLDAYEVENT:FALSE
SUMMARY:Ohio SBDC Webinar- Building Websites
DESCRIPTION:In this webinar\, we'll cover the common platforms for DIY website development along with the advantages & disadvantages of this approach. We will discuss guiding principles for identifying the goals your company is trying to achieve with a website & how that may impact the decision on the best way to proceed-DIY vs Hiring a Pro.
X-ALT-DESC;FMTTYPE=text/html:<span style="font-family: Arial\, Helvetica\, sans-serif\; font-size: 12px\; background-color: rgb(246\, 246\, 246)\;">In this webinar\, we&#39\;ll cover the common platforms for DIY website development along with the advantages &amp\; disadvantages of this approach. We will discuss guiding principles for identifying the goals your company is trying to achieve with a website &amp\; how that may impact the decision on the best way to proceed-DIY vs Hiring a Pro.</span>
LOCATION:
UID:e.1451.15033
SEQUENCE:3
DTSTAMP:20260424T111652Z
URL:https://business.pickeringtonchamber.com/events/details/ohio-sbdc-webinar-building-websites-15033
END:VEVENT

END:VCALENDAR
