BEGIN:VCALENDAR
VERSION:2.0
PRODID:-//ChamberMaster//Event Calendar 2.0//EN
METHOD:PUBLISH
X-PUBLISHED-TTL:P3D
REFRESH-INTERVAL:P3D
CALSCALE:GREGORIAN
BEGIN:VEVENT
DTSTART:20210511T140000Z
DTEND:20210511T160000Z
X-MICROSOFT-CDO-ALLDAYEVENT:FALSE
SUMMARY:Ohio SBDC Webinar- Basis of a Successful Start
DESCRIPTION:In this no-cost 2-hour training\, participants will learn: -Types of ownership -Licensing -Tax Requirements -Sources of financing -Identifying your customer -How to market your product or service
X-ALT-DESC;FMTTYPE=text/html:<span style="font-family: Arial\, Helvetica\, sans-serif\; font-size: 12px\; background-color: rgb(246\, 246\, 246)\;">In this no-cost 2-hour training\, participants will learn: -Types of ownership -Licensing -Tax Requirements -Sources of financing -Identifying your customer -How to market your product or service</span>
LOCATION:Virtual
UID:e.1451.15034
SEQUENCE:3
DTSTAMP:20260424T124400Z
URL:https://business.pickeringtonchamber.com/events/details/ohio-sbdc-webinar-basis-of-a-successful-start-15034
END:VEVENT

END:VCALENDAR
