BEGIN:VCALENDAR
VERSION:2.0
PRODID:-//ChamberMaster//Event Calendar 2.0//EN
METHOD:PUBLISH
X-PUBLISHED-TTL:P3D
REFRESH-INTERVAL:P3D
CALSCALE:GREGORIAN
BEGIN:VEVENT
DTSTART:20210518T180000Z
DTEND:20210518T200000Z
X-MICROSOFT-CDO-ALLDAYEVENT:FALSE
SUMMARY:Ohio SBDC Webinar- Accounting
DESCRIPTION:Lynn Abrams-Spilker w/SE OH Financial Services will provide the fundamental basics of understanding your business's accounting structure\, as well as a presentation on reading & understanding your business's financial statements.
X-ALT-DESC;FMTTYPE=text/html:<br />\n<span style="font-size:18px\;"><span style="font-family: Arial\, Helvetica\, sans-serif\; background-color: rgb(246\, 246\, 246)\;">Lynn Abrams-Spilker w/SE OH Financial Services will provide the fundamental basics of understanding your business&#39\;s accounting structure\, as well as a presentation on reading &amp\; understanding your business&#39\;s financial statements.</span></span>
LOCATION:Virtual
UID:e.1451.15037
SEQUENCE:3
DTSTAMP:20260424T111437Z
URL:https://business.pickeringtonchamber.com/events/details/ohio-sbdc-webinar-accounting-15037
END:VEVENT

END:VCALENDAR
