BEGIN:VCALENDAR
VERSION:2.0
PRODID:-//ChamberMaster//Event Calendar 2.0//EN
METHOD:PUBLISH
X-PUBLISHED-TTL:P3D
REFRESH-INTERVAL:P3D
CALSCALE:GREGORIAN
BEGIN:VEVENT
DTSTART:20210518T160000Z
DTEND:20210518T170000Z
X-MICROSOFT-CDO-ALLDAYEVENT:FALSE
SUMMARY:Ohio SBDC Lunch & Learn- Microsoft PowerPoint
DESCRIPTION:In this no-cost Lunch & Learn\, you will learn about: -Getting Started with PowerPoint -Developing a PowerPoint Presentation -Preparing to Deliver Your Presentation -Q&A
X-ALT-DESC;FMTTYPE=text/html:<span style="font-family: Arial\, Helvetica\, sans-serif\; font-size: 12px\; background-color: rgb(246\, 246\, 246)\;">In this no-cost Lunch &amp\; Learn\, you will learn about: -Getting Started with PowerPoint -Developing a PowerPoint Presentation -Preparing to Deliver Your Presentation -Q&amp\;A</span>
LOCATION:Virtual
UID:e.1451.15036
SEQUENCE:3
DTSTAMP:20260424T124348Z
URL:https://business.pickeringtonchamber.com/events/details/ohio-sbdc-lunch-learn-microsoft-powerpoint-15036
END:VEVENT

END:VCALENDAR
