BEGIN:VCALENDAR
VERSION:2.0
PRODID:-//ChamberMaster//Event Calendar 2.0//EN
METHOD:PUBLISH
X-PUBLISHED-TTL:P3D
REFRESH-INTERVAL:P3D
CALSCALE:GREGORIAN
BEGIN:VEVENT
DTSTART:20210506T160000Z
DTEND:20210506T170000Z
X-MICROSOFT-CDO-ALLDAYEVENT:FALSE
SUMMARY:Ohio SBCD Webinar- Basics of Exporting
DESCRIPTION:In this webinar\, we will explore export documentation\, the various modes of transportation & the role of a freight forwarder\, among other things. We'll also explore Incoterms & find out why EXW and DDP might not be the best choices.
X-ALT-DESC;FMTTYPE=text/html:<span style="font-family: Arial\, Helvetica\, sans-serif\; font-size: 12px\; background-color: rgb(246\, 246\, 246)\;">In this webinar\, we will explore export documentation\, the various modes of transportation &amp\; the role of a freight forwarder\, among other things. We&#39\;ll also explore Incoterms &amp\; find out why EXW and DDP might not be the best choices.</span>
LOCATION:Virtual
UID:e.1451.15031
SEQUENCE:3
DTSTAMP:20260424T124354Z
URL:https://business.pickeringtonchamber.com/events/details/ohio-sbcd-webinar-basics-of-exporting-15031
END:VEVENT

END:VCALENDAR
