BEGIN:VCALENDAR
VERSION:2.0
PRODID:-//ChamberMaster//Event Calendar 2.0//EN
METHOD:PUBLISH
X-PUBLISHED-TTL:P3D
REFRESH-INTERVAL:P3D
CALSCALE:GREGORIAN
BEGIN:VEVENT
DTSTART:20190914T170000Z
DTEND:20190914T190000Z
X-MICROSOFT-CDO-ALLDAYEVENT:FALSE
SUMMARY:Ohio Presidential First Ladies' History\, Jewelry & Fashion @ Historical Museum
DESCRIPTION:Dr. Mari Halkovich offers a visual presentation about Ohio's Presidential First Ladies and various pieces of jewelry and accessories from their personal collections. She also brings pass-around cases and table displays of antique hair combs\, mourning jewelry\, jewelry made of hair\, and more! Dr. Halkovich is a retired school district superintendent who now owns an antiques business in Medina\, Ohio.
X-ALT-DESC;FMTTYPE=text/html:Dr. Mari Halkovich offers a visual presentation about Ohio&#39\;s Presidential First Ladies and various pieces of jewelry and accessories from their personal collections. She also brings pass-around cases and table displays of antique hair combs\, mourning jewelry\, jewelry made of hair\, and more! Dr. Halkovich is a retired school district superintendent who now owns an antiques business in Medina\, Ohio.
LOCATION:Pickerington-Violet Twp Historical Museum 15 E Columbus St Pickerington\, OH 43147
UID:e.1451.13645
SEQUENCE:3
DTSTAMP:20260425T203632Z
URL:https://business.pickeringtonchamber.com/events/details/ohio-presidential-first-ladies-history-jewelry-fashion-historical-museum-13645
END:VEVENT

END:VCALENDAR
