BEGIN:VCALENDAR
VERSION:2.0
PRODID:-//ChamberMaster//Event Calendar 2.0//EN
METHOD:PUBLISH
X-PUBLISHED-TTL:P3D
REFRESH-INTERVAL:P3D
CALSCALE:GREGORIAN
BEGIN:VEVENT
DTSTART:20201229T160000Z
DTEND:20201229T170000Z
X-MICROSOFT-CDO-ALLDAYEVENT:FALSE
SUMMARY:Ohio BWC Webinar - Lockout/Tagout: Controlling Hazardous Energy
DESCRIPTION:The BWC provides a webinar every week on a different safety and health topic where a subject matter expert shares their knowledge and provides an opportunity for participants to ask questions.\n\n\n\nTuesday\, December 29 - Lockout/Tagout: Controlling Hazardous Energy and Your Company Program
X-ALT-DESC;FMTTYPE=text/html:<br />\nThe BWC provides a webinar every week on a different safety and health topic where a subject matter expert shares their knowledge and provides an opportunity for participants to ask questions.<br />\n<br />\nTuesday\, December 29 - Lockout/Tagout: Controlling Hazardous Energy and Your Company Program
LOCATION:
UID:e.1451.14832
SEQUENCE:3
DTSTAMP:20260424T190949Z
URL:https://business.pickeringtonchamber.com/events/details/ohio-bwc-webinar-lockout-tagout-controlling-hazardous-energy-14832
END:VEVENT

END:VCALENDAR
