BEGIN:VCALENDAR
VERSION:2.0
PRODID:-//ChamberMaster//Event Calendar 2.0//EN
METHOD:PUBLISH
X-PUBLISHED-TTL:P3D
REFRESH-INTERVAL:P3D
CALSCALE:GREGORIAN
BEGIN:VEVENT
DTSTART:20201215T160000Z
DTEND:20201215T170000Z
X-MICROSOFT-CDO-ALLDAYEVENT:FALSE
SUMMARY:Ohio BWC Webinar - Accident Analysis
DESCRIPTION:The BWC provides a webinar every week on a different safety and health topic where a subject matter expert shares their knowledge and provides an opportunity for participants to ask questions.\n\n\n\nDec. 15th - Accident Analysis - Why Should I Do It?
X-ALT-DESC;FMTTYPE=text/html:<br />\nThe BWC provides a webinar every week on a different safety and health topic where a subject matter expert shares their knowledge and provides an opportunity for participants to ask questions.<br />\n<br />\nDec. 15th - Accident Analysis - Why Should I Do It?
LOCATION:
UID:e.1451.14830
SEQUENCE:3
DTSTAMP:20260424T201003Z
URL:https://business.pickeringtonchamber.com/events/details/ohio-bwc-webinar-accident-analysis-14830
END:VEVENT

END:VCALENDAR
