BEGIN:VCALENDAR
VERSION:2.0
PRODID:-//ChamberMaster//Event Calendar 2.0//EN
METHOD:PUBLISH
X-PUBLISHED-TTL:P3D
REFRESH-INTERVAL:P3D
CALSCALE:GREGORIAN
BEGIN:VEVENT
DTSTART:20210413T173000Z
DTEND:20210413T180000Z
X-MICROSOFT-CDO-ALLDAYEVENT:FALSE
SUMMARY:Ohio BWC Employer Webinar - BWC Updates and more!
DESCRIPTION:Please join us for the April BWC Employer Update Webinar. This month\, we'll discuss BWC updates on COVID-19\, annual rate letter and true-up\, important dates\, and our monthly safety tip. The webinar will last about 25 minutes.
X-ALT-DESC;FMTTYPE=text/html:<p style="margin-top:0in\;margin-right:0in\;margin-bottom:11.25pt\;margin-left:\n0in"><br />\n<span style="font-size:11.5pt\;font-family:&quot\;Arial&quot\;\,sans-serif\;color:black">Please join us for the April BWC Employer Update Webinar. This month\, we&#39\;ll discuss BWC updates on COVID-19\, annual rate letter and true-up\, important dates\, and our monthly safety tip. The webinar will last about 25 minutes.<o:p></o:p></span></p>\n
LOCATION:Virtual
UID:e.1451.15025
SEQUENCE:3
DTSTAMP:20260424T124524Z
URL:https://business.pickeringtonchamber.com/events/details/ohio-bwc-employer-webinar-bwc-updates-and-more-15025
END:VEVENT

END:VCALENDAR
