BEGIN:VCALENDAR
VERSION:2.0
PRODID:-//ChamberMaster//Event Calendar 2.0//EN
METHOD:PUBLISH
X-PUBLISHED-TTL:P3D
REFRESH-INTERVAL:P3D
CALSCALE:GREGORIAN
BEGIN:VEVENT
DTSTART:20201117T130000Z
DTEND:20201118T220000Z
X-MICROSOFT-CDO-ALLDAYEVENT:FALSE
SUMMARY:Ohio Business Matchmaker
DESCRIPTION:The 2020 Ohio Business Matchmaker helps Ohio businesses develop relationships with government buyers and large prime contractors. Event Easy Check-In and Check-Out. The event features one-on-one discussions with agencies and large prime contractors from local\, state and federal organizations. It includes a small business counseling suite\, pre-scheduled matchmaking\, and a webinar series to prepare for the Matchmaker.
X-ALT-DESC;FMTTYPE=text/html:The 2020 Ohio Business Matchmaker helps Ohio businesses develop relationships with government buyers and large prime contractors. Event Easy Check-In and Check-Out. The event features one-on-one discussions with agencies and large prime contractors from local\, state and federal organizations. It includes a small business counseling suite\, pre-scheduled matchmaking\, and a webinar series to prepare for the Matchmaker.
LOCATION:Virtual Event
UID:e.1451.14775
SEQUENCE:3
DTSTAMP:20260424T215429Z
URL:https://business.pickeringtonchamber.com/events/details/ohio-business-matchmaker-14775
END:VEVENT

END:VCALENDAR
