BEGIN:VCALENDAR
VERSION:2.0
PRODID:-//ChamberMaster//Event Calendar 2.0//EN
METHOD:PUBLISH
X-PUBLISHED-TTL:P3D
REFRESH-INTERVAL:P3D
CALSCALE:GREGORIAN
BEGIN:VEVENT
DTSTART;VALUE=DATE:20211101
DTEND;VALUE=DATE:20211201
TRANSP:TRANSPARENT
X-MICROSOFT-CDO-ALLDAYEVENT:TRUE
SUMMARY:November Match 2021
DESCRIPTION:Sadly\, 1 in 3 U.S. families struggle to afford diapers to keep their babies clean\, dry\, and healthy.  Some parents are forced use one diaper for their baby for days at a time\, or scrape out and re-use disposable diapers when they can't afford diapers for their child.  \n\nBottoms Up Diaper Drive is here to end all that.  This year alone\, they have distributed almost a million diapers to families in need but they need your help. \n\nIn November\, you can donate to Bottoms Up and have your donation matched dollar for dollar.  Won't you please help?  Go to bottomsup.life to donate and have your donation doubled.
X-ALT-DESC;FMTTYPE=text/html:<p><span style="font-size:18px"><span style="color:rgb(34\, 34\, 34)\; font-family:calibri\,sans-serif">Sadly\, 1 in 3 U.S. families struggle to afford diapers to keep their babies clean\, dry\, and healthy.&nbsp\; Some parents are forced use one diaper for their baby for days at a time\, or scrape out and re-use disposable diapers when they can&rsquo\;t afford diapers for their child.&nbsp\; </span></span></p>\n\n<p><span style="font-size:18px"><span style="color:rgb(34\, 34\, 34)\; font-family:calibri\,sans-serif">Bottoms Up Diaper Drive is here to end all that.&nbsp\; This year alone\, they have distributed almost a million diapers to families in need but they need your help. </span></span></p>\n\n<p><span style="font-size:18px"><span style="color:rgb(34\, 34\, 34)\; font-family:calibri\,sans-serif">In November\, you can donate to Bottoms Up and have your donation matched dollar for dollar.&nbsp\; Won&rsquo\;t you please help?&nbsp\; Go to bottomsup.life to donate and have your donation doubled.</span></span></p>\n
LOCATION:Donations can easily be made through our website. https://www.bottomsup.life/
UID:e.1451.15499
SEQUENCE:3
DTSTAMP:20260424T013534Z
URL:https://business.pickeringtonchamber.com/events/details/november-match-2021-15499
END:VEVENT

END:VCALENDAR
