BEGIN:VCALENDAR
VERSION:2.0
PRODID:-//ChamberMaster//Event Calendar 2.0//EN
METHOD:PUBLISH
X-PUBLISHED-TTL:P3D
REFRESH-INTERVAL:P3D
CALSCALE:GREGORIAN
BEGIN:VEVENT
DTSTART:20190828T220000Z
DTEND:20190828T233000Z
X-MICROSOFT-CDO-ALLDAYEVENT:FALSE
SUMMARY:New Business Owner? Free Event for You!
DESCRIPTION:This information session is for the purpose of providing helpful resources/info/tips for business owners/ entrepreneurs/self Employed\n\n\n\n\n\n\n\nAbout this Event\n\n\n\nKnowing where to get started or if you are doing this correctly can be a daunting task as a business owner.\n\nWe've put together a team of local experts to help you navigate being a new business owner. We are providing information and resources to make sure you are on the right track!\n\nWe will offer time for Q&A\, in addition to discussing Entity Selection\, Bookeeping for Beginners\, Taxes and Compliance\, S-corp Election\, Hiring Employees\, and Tips for Reducing Tax Liability!\n\nTiffanie Chalfant-Hahn\n\n\n\nhttp://www.linkedin.com/in/Tiffanie-Chalfant-hahn\n\n \n\n\n\n\n\n\n\nHi my name is Tiffanie Chalfant-Hahn. I have worked with Paychex for 4\, going on 5 years. During my time at Paychex I have cultivated professional relationships with a network of people who have been of great value to my clients over the years. My goal is to provide my clients with resources to help them succeed. I've had people say\, "I wish I had an attorney in my family\," or\, "I wish I could pick the brain of a cpa for just a few things I'm not sure about." Hearing my clients make starements like this\, time and time again\, gave me the motivation to help connect them with the information and help they need. I've coordinated with professionals\, whom I know and trust\, to help organize a series of upcoming seminars\, Q&A sessions\, & events. Any and all are welcome to come-it is not restricted to just my clients. I want all entrepreneurs to have a real chance to succeed.  The material will be structured around the questions that overwhelm new business owners\, possibly plague existing business owners\, and cause start-up businesses to hesitate or second- guess themselves. Between CPA's\, Business Attorneys\, Financial Advisors\, and other professionals I partner with\, we hope to help business owners navigate the ever-evolving responsibilities they face.\n\n\n\n\n\n \n\n\n\nOrganizer
X-ALT-DESC;FMTTYPE=text/html:<div background-color:="" class="g-group l-lg-mar-bot-6 l-md-mar-bot-4  " helvetica="" neue="" style="margin: 0px 0px 30px\; padding: 0px\; font-size: 0px\; letter-spacing: 0px\; color: rgb(57\, 54\, 79)\; font-family: ">\n<div class="g-cell g-cell-10-12 g-cell-md-1-1" style="margin: 0px\; padding: 0px 15px\; width: 560px\; box-sizing: border-box\; display: inline-block\; overflow: hidden\; vertical-align: top\; letter-spacing: 0.5px\; font-size: 0.933333rem\; line-height: 1.25rem\;">\n<div class="has-user-generated-content js-d-read-more read-more js-read-more read-more--medium-down read-more--expanded" data-xd-wired="read-more" dorsal-guid="cca99aeb-4062-8048-c223-2503927dddf7" style="margin: 0px\; padding: 0px\;">\n<div class="js-xd-read-more-toggle-view read-more__toggle-view" style="margin: 0px\; padding: 0px\; overflow: hidden\; position: relative\; overflow-wrap: break-word\;">\n<div class="js-xd-read-more-contents text-body-medium" data-automation="listing-event-description" style="margin: 0px\; padding: 0px\; font-size: 0.933333rem\; line-height: 1.25rem\;"><span style="font-weight: 700\; padding-top: 0px\;"><span style="font-family:verdana\;">This information session is for the purpose of providing helpful resources/info/tips for business owners/ entrepreneurs/self Employed</span></span></div>\n</div>\n</div>\n</div>\n</div>\n\n<div background-color:="" class="g-group l-mar-bot-6 l-sm-mar-bot-4" helvetica="" neue="" style="margin: 0px 0px 30px\; padding: 0px\; font-size: 0px\; letter-spacing: 0px\; color: rgb(57\, 54\, 79)\; font-family: ">\n<div class="structured-content g-cell g-cell-10-12 g-cell-md-1-1" style="margin: 0px\; padding: 0px 15px\; width: 560px\; box-sizing: border-box\; display: inline-block\; overflow: hidden\; vertical-align: top\; letter-spacing: 0.5px\; font-size: 0.933333rem\; line-height: 1.25rem\;">\n<h2 class="text-body-large hide-small" style="margin: 0px -0.25px 0px 0px\; padding: 0px\; font-size: 1.2rem\; line-height: 1.5rem\; letter-spacing: 0.25px\;"><span style="font-family:verdana\;">About this Event</span></h2>\n\n<div class="has-user-generated-content" data-automation="about-this-event-sc" style="margin: 0px\; padding: 0px\;">\n<div class="structured-content-rich-text structured-content__module l-align-left l-mar-vert-6 l-sm-mar-vert-4 text-body-medium" style="margin: 30px 0px\; padding: 0px\; font-size: 0.933333rem\; line-height: 1.25rem\; text-rendering: optimizelegibility\;">\n<p style="margin: 0px\; padding: 0px\; color: rgb(111\, 114\, 135)\; font-size: 16px\; line-height: 1.5rem\;"><span style="font-family:verdana\;">Knowing where to get started or if you are doing this correctly can be a daunting task as a business owner.</span></p>\n\n<p style="margin: 0px\; padding: 10px 0px 0px\; color: rgb(111\, 114\, 135)\; font-size: 16px\; line-height: 1.5rem\;"><span style="font-family:verdana\;">We&#39\;ve put together a team of local experts to help you navigate being a new business owner. We are providing information and resources to make sure you are on the right track!</span></p>\n\n<p style="margin: 0px\; padding: 10px 0px 0px\; color: rgb(111\, 114\, 135)\; font-size: 16px\; line-height: 1.5rem\;"><span style="font-family:verdana\;">We will offer time for Q&amp\;A\, in addition to discussing Entity Selection\, Bookeeping for Beginners\, Taxes and Compliance\, S-corp Election\, Hiring Employees\, and Tips for Reducing Tax Liability!</span></p>\n\n<h3 style="margin: 0px\; padding: 10px 0px 0px\; color: rgb(111\, 114\, 135)\; font-size: 16px\; line-height: 1.5rem\;"><span style="font-size:18px\;"><span style="font-family:verdana\;">Tiffanie Chalfant-Hahn</span></span></h3>\n\n<div>\n<div>\n<div><span style="font-size:14px\;"><span style="font-family:verdana\;"><a href="http://www.linkedin.com/in/Tiffanie-Chalfant-hahn" rel="nofollow noopener noreferrer" target="_blank">http://www.linkedin.com/in/Tiffanie-Chalfant-hahn</a></span></span><br />\n&nbsp\;</div>\n</div>\n</div>\n\n<div>\n<div>\n<div>\n<div data-automation="organizer-long-description">\n<p><span style="font-size:14px\;"><span style="font-family:verdana\;">Hi my name is Tiffanie Chalfant-Hahn. I have worked with Paychex for 4\, going on 5 years. During my time at Paychex I have cultivated professional relationships with a network of people who have been of great value to my clients over the years. My goal is to provide my clients with resources to help them succeed. I&rsquo\;ve had people say\, &ldquo\;I wish I had an attorney in my family\,&rdquo\; or\, &ldquo\;I wish I could pick the brain of a cpa for just a few things I&rsquo\;m not sure about.&rdquo\; Hearing my clients make starements like this\, time and time again\, gave me the motivation to help connect them with the information and help they need. I&rsquo\;ve coordinated with professionals\, whom I know and trust\, to help organize a series of upcoming seminars\, Q&amp\;A sessions\, &amp\; events. Any and all are welcome to come-it is not restricted to just my clients. I want all entrepreneurs to have a real chance to succeed. &nbsp\;The material will be structured around the questions that overwhelm new business owners\, possibly plague existing business owners\, and cause start-up businesses to hesitate or second- guess themselves. Between CPA&rsquo\;s\, Business Attorneys\, Financial Advisors\, and other professionals I partner with\, we hope to help business owners navigate the ever-evolving responsibilities they face.</span></span></p>\n</div>\n</div>\n</div>\n</div>\n\n<p>&nbsp\;</p>\n\n<div background-color:="" helvetica="" neue="">\n<div>\n<div><a data-automation="organizer-profile-link" href="https://www.eventbrite.com/o/tiffanie-chalfant-hahn-21612401162" target="_blank"><span style="font-size:14px\;"><span style="font-family:verdana\;">Organizer</span></span></a></div>\n</div>\n</div>\n\n<div background-color:="" class="l-align-center g-cell g-cell-1-1 g-cell-lg-10-12 g-offset-lg-1-12 l-sm-pad-bot-5 l-pad-bot-6 org-panel-actions btn-group l-mar-top-2" helvetica="" neue="" style="margin: 10px 0px 0px 74.9844px\; padding: 0px 15px 30px\; width: 750px\; box-sizing: border-box\; display: inline-block\; overflow: hidden\; vertical-align: top\; letter-spacing: 0.5px\; text-align: center\; font-size: 0.933333rem\; line-height: 1.25rem\; color: rgb(57\, 54\, 79)\; font-family: ">&nbsp\;</div>\n</div>\n</div>\n</div>\n</div>\n
LOCATION:Baltimore Tax & Accounting Center LLC 107 North Main Street #Suite A Baltimore\, OH 43105 View Map
UID:e.1451.13598
SEQUENCE:3
DTSTAMP:20260425T222738Z
URL:https://business.pickeringtonchamber.com/events/details/new-business-owner-free-event-for-you-13598
END:VEVENT

END:VCALENDAR
