BEGIN:VCALENDAR
VERSION:2.0
PRODID:-//ChamberMaster//Event Calendar 2.0//EN
METHOD:PUBLISH
X-PUBLISHED-TTL:P3D
REFRESH-INTERVAL:P3D
CALSCALE:GREGORIAN
BEGIN:VEVENT
DTSTART:20241022T213000Z
DTEND:20241022T230000Z
X-MICROSOFT-CDO-ALLDAYEVENT:FALSE
SUMMARY:Networking with Neighbors: WLC & WSBA
DESCRIPTION:Join us for another Networking with Neighbors event as members of the Women's Leadership Coalition invite members of the Women's Small Business Accelerator to join us for a night of networking and fun at Combustion Brewery! It will be held in the upstairs event space with free food and a private cash bar. Introduce your business to new people\, grow your network\, and make new friends. \n\n\n\nNot a member of WLC? Join us anyway!\n\nOpen to all chamber members (not just women).
X-ALT-DESC;FMTTYPE=text/html:<p><span style="font-size:14px\;"><span style="font-family:verdana\;">Join us for another Networking with Neighbors event as members of the Women&#39\;s Leadership Coalition invite&nbsp\;members of the Women&#39\;s Small Business Accelerator to join us for a night of networking and fun at Combustion Brewery! It will be held in the upstairs event space with free food and&nbsp\;a private cash bar. Introduce your business to new people\, grow your network\, and make new friends.&nbsp\;<br />\n<br />\n<em><strong>Not a member of WLC? Join us anyway!</strong></em></span></span><br />\n<em><strong><span style="font-family: verdana\; font-size: 14px\;">Open to all chamber members (not just women).</span></strong></em></p>\n
LOCATION:Combustion Brewery & Taproom (upstairs) 80 W. Church St. Pickerington\, OH 43147
UID:e.1451.16901
SEQUENCE:3
DTSTAMP:20260421T171507Z
URL:https://business.pickeringtonchamber.com/events/details/networking-with-neighbors-wlc-wsba-16901
END:VEVENT

END:VCALENDAR
