BEGIN:VCALENDAR
VERSION:2.0
PRODID:-//ChamberMaster//Event Calendar 2.0//EN
METHOD:PUBLISH
X-PUBLISHED-TTL:P3D
REFRESH-INTERVAL:P3D
CALSCALE:GREGORIAN
BEGIN:VEVENT
DTSTART:20240530T200000Z
DTEND:20240530T220000Z
X-MICROSOFT-CDO-ALLDAYEVENT:FALSE
SUMMARY:Networking with Neighbors: Pickerington & Pataskala
DESCRIPTION:Join us for this inaugural Networking with Neighbors event as the Pickerington Area Chamber invites members of the Pataskala Area Chamber to join us for a night of networking and fun at the Motorcycle Hall of Fame Museum! There will be appetizers and a cash bar\, as well as networking bingo. Introduce your business to new people\, grow your network\, and make new friends.\n\n\n\nAlso enjoy admission to the American Motorcyclist Association's Motorcycle Hall of Fame Museum and see historic motorcycles and learn about the lives and careers of AMA Motorcycle Hall of Famers and other men and women who have shaped motorcycling in America.
X-ALT-DESC;FMTTYPE=text/html:<p><span style="font-size:14px\;"><span style="font-family:verdana\;">Join us for this inaugural Networking with Neighbors event as the Pickerington Area Chamber invites members of the Pataskala Area Chamber to join us for a night of networking and fun at the Motorcycle Hall of Fame Museum! There will be appetizers and a cash bar\, as well as networking bingo. Introduce your business to new people\, grow your network\, and make new friends.<br />\n<br />\nAlso enjoy admission to the <a href="https://americanmotorcyclist.com/hall-of-fame/">American Motorcyclist Association&#39\;s Motorcycle Hall of Fame Museum</a>&nbsp\;and see&nbsp\;historic motorcycles and learn about the lives and careers of AMA Motorcycle Hall of Famers and other men and women who have shaped motorcycling in America.</span></span></p>\n
LOCATION:AMA Motorcycle Hall of Fame 13515 Yarmouth Dr. Pickerington\, OH 43147
UID:e.1451.16880
SEQUENCE:3
DTSTAMP:20260422T023446Z
URL:https://business.pickeringtonchamber.com/events/details/networking-with-neighbors-pickerington-pataskala-16880
END:VEVENT

END:VCALENDAR
