BEGIN:VCALENDAR
VERSION:2.0
PRODID:-//ChamberMaster//Event Calendar 2.0//EN
METHOD:PUBLISH
X-PUBLISHED-TTL:P3D
REFRESH-INTERVAL:P3D
CALSCALE:GREGORIAN
BEGIN:VEVENT
DTSTART:20200326T150000Z
DTEND:20200326T160000Z
X-MICROSOFT-CDO-ALLDAYEVENT:FALSE
SUMMARY:Navigating\, Managing & Leading During Uncertain Times
DESCRIPTION:REGISTER NOW\n\nFor a Live Online Roundtable Q&A Event: \n\nExpert Panel on Navigating\, Managing & Leading During Uncertain Times\n\nDuring an unprecedented time in our nation's history\, I'm bringing together a panel of experts to answer your questions and bring direction and clarity in the following areas:\n\n\n	Business & Employee Law\n	Bank/Finance\n	HR\n	Management & Leadership\n	Sales \n	Communication & PR\n\n\nWho Should Attend?\n\n\n	Executives\, managers and leaders in any business of any size\n\n\n\nWhat Attendees Will Learn:\n\n\n	3 ways executives can respond during a crisis\n	How to deal with challenges in companies and markets\n	What other companies are doing to deal with the restrictions caused by this disruption\n	Communication you can/should have with your stakeholders\n\n\nThe panel of experts includes (see bios below):\n\n\n	Meeting Moderator & Management/Leadership: Ed Eppley\, The Eppley Group\n	Finance: Scott McComb\, CEO of Heartland Bank\n	Sales: Lance Tyson\, Owner of The Tyson Group\n	Legal/HR: Alicia Shaw\, Carlile Patchen & Murphy\n	Communication & PR: Janet Graesser
X-ALT-DESC;FMTTYPE=text/html:<h1 class="has-text-align-center" style="box-sizing: border-box\; margin: 0px 0px 7px\; padding: 0px\; border: 0px\; font-variant-numeric: inherit\; font-variant-east-asian: inherit\; font-weight: 700\; font-stretch: inherit\; font-size: 50px\; line-height: 58px\; font-family: Verdana\, Geneva\, sans-serif\; vertical-align: baseline\; color: rgb(115\, 116\, 118)\; -webkit-font-smoothing: antialiased\; text-align: center\;"><span style="box-sizing: border-box\; margin: 0px\; padding: 0px\; border: 0px\; font-style: inherit\; font-variant: inherit\; font-stretch: inherit\; font-size: inherit\; line-height: inherit\; vertical-align: baseline\;"><a aria-label="REGISTER NOW  (opens in a new tab)" href="https://zoom.us/meeting/register/u50tdOGpqj8i6bXvb1LqGWsx79eAzRpxmg" rel="noreferrer noopener" style="box-sizing: border-box\; margin: 0px\; padding: 0px\; border: 0px\; font: inherit\; vertical-align: baseline\; color: rgb(216\, 98\, 29)\; text-decoration-line: none\; transition: color 0.2s ease 0s\;" target="_blank">REGISTER NOW</a></span></h1>\n\n<h2 class="has-text-align-center" style="box-sizing: border-box\; margin: 0px 0px 7px\; padding: 0px\; border: 0px\; font-variant-numeric: inherit\; font-variant-east-asian: inherit\; font-weight: 700\; font-stretch: inherit\; font-size: 34px\; line-height: 40px\; font-family: Verdana\, Geneva\, sans-serif\; vertical-align: baseline\; color: rgb(115\, 116\, 118)\; -webkit-font-smoothing: antialiased\; text-align: center\;"><span style="box-sizing: border-box\; margin: 0px\; padding: 0px\; border: 0px\; font-style: inherit\; font-variant: inherit\; font-stretch: inherit\; font-size: inherit\; line-height: inherit\; vertical-align: baseline\;">For a Live Online Roundtable Q&amp\;A Event:&nbsp\;</span></h2>\n\n<h2 class="has-text-align-center" style="box-sizing: border-box\; margin: 0px 0px 7px\; padding: 0px\; border: 0px\; font-variant-numeric: inherit\; font-variant-east-asian: inherit\; font-weight: 700\; font-stretch: inherit\; font-size: 34px\; line-height: 40px\; font-family: Verdana\, Geneva\, sans-serif\; vertical-align: baseline\; color: rgb(115\, 116\, 118)\; -webkit-font-smoothing: antialiased\; text-align: center\;"><em style="box-sizing: border-box\; margin: 0px\; padding: 0px\; border: 0px\; font-variant: inherit\; font-weight: inherit\; font-stretch: inherit\; font-size: inherit\; line-height: inherit\; font-family: inherit\; vertical-align: baseline\;">Expert Panel on Navigating\,&nbsp\;</em><span style="box-sizing: border-box\; margin: 0px\; padding: 0px\; border: 0px\; font-style: inherit\; font-variant: inherit\; font-stretch: inherit\; font-size: inherit\; line-height: inherit\; vertical-align: baseline\;"><em style="box-sizing: border-box\; margin: 0px\; padding: 0px\; border: 0px\; font-variant: inherit\; font-weight: inherit\; font-stretch: inherit\; font-size: inherit\; line-height: inherit\; font-family: inherit\; vertical-align: baseline\;">Managing &amp\; Leading During Uncertain Times</em></span></h2>\n\n<p style="box-sizing: border-box\; margin: 0px\; padding: 0px 0px 1.5em\; border: 0px\; font-variant-numeric: inherit\; font-variant-east-asian: inherit\; font-stretch: inherit\; font-size: 18px\; line-height: inherit\; font-family: Verdana\, Geneva\, sans-serif\; vertical-align: baseline\; -webkit-font-smoothing: antialiased\; color: rgb(115\, 116\, 118)\;">During an unprecedented time in our nation&rsquo\;s history\, I&rsquo\;m bringing together a panel of experts to answer your questions and bring direction and clarity in the following areas:</p>\n\n<ul style="box-sizing: border-box\; margin: 0px 0px 30px 30px\; padding-right: 0px\; padding-left: 0px\; border: 0px\; font-variant-numeric: inherit\; font-variant-east-asian: inherit\; font-stretch: inherit\; font-size: 18px\; line-height: inherit\; font-family: Verdana\, Geneva\, sans-serif\; vertical-align: baseline\; list-style: none\; color: rgb(115\, 116\, 118)\;">\n	<li style="box-sizing: border-box\; margin: 0px\; padding: 0px\; border: 0px\; font: inherit\; vertical-align: baseline\; list-style: outside disc\;">Business &amp\; Employee Law</li>\n	<li style="box-sizing: border-box\; margin: 0px\; padding: 0px\; border: 0px\; font: inherit\; vertical-align: baseline\; list-style: outside disc\;">Bank/Finance</li>\n	<li style="box-sizing: border-box\; margin: 0px\; padding: 0px\; border: 0px\; font: inherit\; vertical-align: baseline\; list-style: outside disc\;">HR</li>\n	<li style="box-sizing: border-box\; margin: 0px\; padding: 0px\; border: 0px\; font: inherit\; vertical-align: baseline\; list-style: outside disc\;">Management &amp\; Leadership</li>\n	<li style="box-sizing: border-box\; margin: 0px\; padding: 0px\; border: 0px\; font: inherit\; vertical-align: baseline\; list-style: outside disc\;">Sales&nbsp\;</li>\n	<li style="box-sizing: border-box\; margin: 0px\; padding: 0px\; border: 0px\; font: inherit\; vertical-align: baseline\; list-style: outside disc\;">Communication &amp\; PR</li>\n</ul>\n\n<p style="box-sizing: border-box\; margin: 0px\; padding: 0px 0px 1.5em\; border: 0px\; font-variant-numeric: inherit\; font-variant-east-asian: inherit\; font-stretch: inherit\; font-size: 18px\; line-height: inherit\; font-family: Verdana\, Geneva\, sans-serif\; vertical-align: baseline\; -webkit-font-smoothing: antialiased\; color: rgb(115\, 116\, 118)\;"><span style="box-sizing: border-box\; margin: 0px\; padding: 0px\; border: 0px\; font-style: inherit\; font-variant: inherit\; font-weight: 600\; font-stretch: inherit\; font-size: inherit\; line-height: inherit\; vertical-align: baseline\;">Who Should Attend?</span></p>\n\n<ul style="box-sizing: border-box\; margin: 0px 0px 30px 30px\; padding-right: 0px\; padding-left: 0px\; border: 0px\; font-variant-numeric: inherit\; font-variant-east-asian: inherit\; font-stretch: inherit\; font-size: 18px\; line-height: inherit\; font-family: Verdana\, Geneva\, sans-serif\; vertical-align: baseline\; list-style: none\; color: rgb(115\, 116\, 118)\;">\n	<li style="box-sizing: border-box\; margin: 0px\; padding: 0px\; border: 0px\; font: inherit\; vertical-align: baseline\; list-style: outside disc\;">Executives\, managers and leaders in any business of any size</li>\n</ul>\n\n<div style="box-sizing: border-box\; margin: 0px\; padding: 0px\; border: 0px\; font: inherit\; vertical-align: baseline\; list-style: outside disc\;">\n<p style="box-sizing: border-box\; margin: 0px\; padding: 0px 0px 1.5em\; border: 0px\; font-variant-numeric: inherit\; font-variant-east-asian: inherit\; font-stretch: inherit\; font-size: 18px\; line-height: inherit\; font-family: Verdana\, Geneva\, sans-serif\; vertical-align: baseline\; -webkit-font-smoothing: antialiased\; color: rgb(115\, 116\, 118)\;"><span style="box-sizing: border-box\; margin: 0px\; padding: 0px\; border: 0px\; font-style: inherit\; font-variant: inherit\; font-weight: 600\; font-stretch: inherit\; font-size: inherit\; line-height: inherit\; vertical-align: baseline\;">What Attendees Will Learn:</span></p>\n\n<ul style="box-sizing: border-box\; margin: 0px 0px 30px 30px\; padding-right: 0px\; padding-left: 0px\; border: 0px\; font-variant-numeric: inherit\; font-variant-east-asian: inherit\; font-stretch: inherit\; font-size: 18px\; line-height: inherit\; font-family: Verdana\, Geneva\, sans-serif\; vertical-align: baseline\; list-style: none\; color: rgb(115\, 116\, 118)\;">\n	<li style="box-sizing: border-box\; margin: 0px\; padding: 0px\; border: 0px\; font: inherit\; vertical-align: baseline\; list-style: outside disc\;">3 ways executives can respond during a crisis</li>\n	<li style="box-sizing: border-box\; margin: 0px\; padding: 0px\; border: 0px\; font: inherit\; vertical-align: baseline\; list-style: outside disc\;">How to deal with challenges in companies and markets</li>\n	<li style="box-sizing: border-box\; margin: 0px\; padding: 0px\; border: 0px\; font: inherit\; vertical-align: baseline\; list-style: outside disc\;">What other companies are doing to deal with the restrictions caused by this disruption</li>\n	<li style="box-sizing: border-box\; margin: 0px\; padding: 0px\; border: 0px\; font: inherit\; vertical-align: baseline\; list-style: outside disc\;">Communication you can/should have with your stakeholders</li>\n</ul>\n\n<p style="box-sizing: border-box\; margin: 0px\; padding: 0px 0px 1.5em\; border: 0px\; font-variant-numeric: inherit\; font-variant-east-asian: inherit\; font-stretch: inherit\; font-size: 18px\; line-height: inherit\; font-family: Verdana\, Geneva\, sans-serif\; vertical-align: baseline\; -webkit-font-smoothing: antialiased\; color: rgb(115\, 116\, 118)\;"><span style="box-sizing: border-box\; margin: 0px\; padding: 0px\; border: 0px\; font-style: inherit\; font-variant: inherit\; font-weight: 600\; font-stretch: inherit\; font-size: inherit\; line-height: inherit\; vertical-align: baseline\;">The panel of experts includes (see bios below):</span></p>\n\n<ul style="box-sizing: border-box\; margin: 0px 0px 30px 30px\; padding-right: 0px\; padding-left: 0px\; border: 0px\; font-variant-numeric: inherit\; font-variant-east-asian: inherit\; font-stretch: inherit\; font-size: 18px\; line-height: inherit\; font-family: Verdana\, Geneva\, sans-serif\; vertical-align: baseline\; list-style: none\; color: rgb(115\, 116\, 118)\;">\n	<li style="box-sizing: border-box\; margin: 0px\; padding: 0px\; border: 0px\; font: inherit\; vertical-align: baseline\; list-style: outside disc\;"><span style="box-sizing: border-box\; margin: 0px\; padding: 0px\; border: 0px\; font-style: inherit\; font-variant: inherit\; font-weight: 600\; font-stretch: inherit\; font-size: inherit\; line-height: inherit\; vertical-align: baseline\;">Meeting Moderator &amp\; Management/Leadership</span>: Ed Eppley\,&nbsp\;<a aria-label="The Eppley Group (opens in a new tab)" href="http://theeppleygroup.com/" rel="noreferrer noopener" style="box-sizing: border-box\; margin: 0px\; padding: 0px\; border: 0px\; font: inherit\; vertical-align: baseline\; color: rgb(216\, 98\, 29)\; text-decoration-line: none\; transition: color 0.2s ease 0s\;" target="_blank">The Eppley Group</a></li>\n	<li style="box-sizing: border-box\; margin: 0px\; padding: 0px\; border: 0px\; font: inherit\; vertical-align: baseline\; list-style: outside disc\;"><span style="box-sizing: border-box\; margin: 0px\; padding: 0px\; border: 0px\; font-style: inherit\; font-variant: inherit\; font-weight: 600\; font-stretch: inherit\; font-size: inherit\; line-height: inherit\; vertical-align: baseline\;">Finance:</span>&nbsp\;Scott McComb\, CEO of&nbsp\;<a aria-label="Heartland Bank (opens in a new tab)" href="https://www.heartland.bank/OUR-BANK/Leadership" rel="noreferrer noopener" style="box-sizing: border-box\; margin: 0px\; padding: 0px\; border: 0px\; font: inherit\; vertical-align: baseline\; color: rgb(216\, 98\, 29)\; text-decoration-line: none\; transition: color 0.2s ease 0s\;" target="_blank">Heartland Bank</a></li>\n	<li style="box-sizing: border-box\; margin: 0px\; padding: 0px\; border: 0px\; font: inherit\; vertical-align: baseline\; list-style: outside disc\;"><span style="box-sizing: border-box\; margin: 0px\; padding: 0px\; border: 0px\; font-style: inherit\; font-variant: inherit\; font-weight: 600\; font-stretch: inherit\; font-size: inherit\; line-height: inherit\; vertical-align: baseline\;">Sales:</span>&nbsp\;Lance Tyson\, Owner of&nbsp\;<a aria-label="The Tyson Group (opens in a new tab)" href="https://tysongroup.com/team-members/lance-tyson/" rel="noreferrer noopener" style="box-sizing: border-box\; margin: 0px\; padding: 0px\; border: 0px\; font: inherit\; vertical-align: baseline\; color: rgb(216\, 98\, 29)\; text-decoration-line: none\; transition: color 0.2s ease 0s\;" target="_blank">The Tyson Group</a></li>\n	<li style="box-sizing: border-box\; margin: 0px\; padding: 0px\; border: 0px\; font: inherit\; vertical-align: baseline\; list-style: outside disc\;"><span style="box-sizing: border-box\; margin: 0px\; padding: 0px\; border: 0px\; font-style: inherit\; font-variant: inherit\; font-weight: 600\; font-stretch: inherit\; font-size: inherit\; line-height: inherit\; vertical-align: baseline\;">Legal/HR:</span>&nbsp\;Alicia Shaw\,&nbsp\;<a aria-label=" Alicia Shaw\, Carlisle Patchen &amp\; Murphy (opens in a new tab)" href="https://www.cpmlaw.com/people/alicia-nesline-shaw/" rel="noreferrer noopener" style="box-sizing: border-box\; margin: 0px\; padding: 0px\; border: 0px\; font: inherit\; vertical-align: baseline\; color: rgb(216\, 98\, 29)\; text-decoration-line: none\; transition: color 0.2s ease 0s\;" target="_blank">Carlile Patchen &amp\; Murphy</a></li>\n	<li style="box-sizing: border-box\; margin: 0px\; padding: 0px\; border: 0px\; font: inherit\; vertical-align: baseline\; list-style: outside disc\;"><span style="box-sizing: border-box\; margin: 0px\; padding: 0px\; border: 0px\; font-style: inherit\; font-variant: inherit\; font-weight: 600\; font-stretch: inherit\; font-size: inherit\; line-height: inherit\; vertical-align: baseline\;">Communication &amp\; PR:</span>&nbsp\;<a aria-label="Janet Graesser (opens in a new tab)" href="https://www.linkedin.com/in/janetgraesser" rel="noreferrer noopener" style="box-sizing: border-box\; margin: 0px\; padding: 0px\; border: 0px\; font: inherit\; vertical-align: baseline\; color: rgb(216\, 98\, 29)\; text-decoration-line: none\; transition: color 0.2s ease 0s\;" target="_blank">Janet Graesser</a></li>\n</ul>\n</div>\n\n<div style="box-sizing: border-box\; margin: 0px\; padding: 0px\; border: 0px\; font: inherit\; vertical-align: baseline\; list-style: outside disc\;">&nbsp\;</div>\n
LOCATION:Live from the comfort of your office/home
UID:e.1451.14302
SEQUENCE:3
DTSTAMP:20260425T104634Z
URL:https://business.pickeringtonchamber.com/events/details/navigating-managing-leading-during-uncertain-times-14302
END:VEVENT

END:VCALENDAR
