BEGIN:VCALENDAR
VERSION:2.0
PRODID:-//ChamberMaster//Event Calendar 2.0//EN
METHOD:PUBLISH
X-PUBLISHED-TTL:P3D
REFRESH-INTERVAL:P3D
CALSCALE:GREGORIAN
BEGIN:VEVENT
DTSTART:20190830T230000Z
DTEND:20190831T010000Z
X-MICROSOFT-CDO-ALLDAYEVENT:FALSE
SUMMARY:Murder Mystery Dinner at Phenix Banquet Center
DESCRIPTION:Join The Murder Mystery Company live in Columbus for the showing of Midnight at the Masquerade\, an immersive mystery experience full of twists and turns. A murder will occur and your sleuthing skills will be put to the test as you work to determine whodunnit. You'll have the chance to examine clues and mingle with suspects to deduce the culprit as you dine on a killer three-course meal. You might even become a suspect yourself! Tickets go fast\, so get yours today.
X-ALT-DESC;FMTTYPE=text/html:<br />\n<span style="color: rgb(29\, 33\, 41)\; font-family: Helvetica\, Arial\, sans-serif\; font-size: 14px\; white-space: pre-wrap\;">Join The Murder Mystery Company live in Columbus for the showing of Midnight at the Masquerade\, an immersive mystery experience full of twists and turns. A murder will occur and your sleuthing skills will be put to the test as you work to determine whodunnit. You&#39\;ll have the chance to examine clues and mingle with suspects to deduce the culprit as you dine on a killer three-course meal. You might even become a suspect yourself! Tickets go fast\, so get yours today.</span><br />\n&nbsp\;
LOCATION:Phenix Banquet Center 2101 Noe Bixby Rd. Columbus\, OH 43232
UID:e.1451.13436
SEQUENCE:3
DTSTAMP:20260425T204306Z
URL:https://business.pickeringtonchamber.com/events/details/murder-mystery-dinner-at-phenix-banquet-center-13436
END:VEVENT

END:VCALENDAR
