BEGIN:VCALENDAR
VERSION:2.0
PRODID:-//ChamberMaster//Event Calendar 2.0//EN
METHOD:PUBLISH
X-PUBLISHED-TTL:P3D
REFRESH-INTERVAL:P3D
CALSCALE:GREGORIAN
BEGIN:VEVENT
DTSTART:20190718T153000Z
DTEND:20190718T170000Z
X-MICROSOFT-CDO-ALLDAYEVENT:FALSE
SUMMARY:Monthly Membership Luncheon - State of the Chamber
DESCRIPTION:Join us on Thursday\, July 18\, 2019\, for our first ever "State of the Chamber" luncheon.  During this luncheon we will share some highlights from the Chamber\, including membership growth\, retention\, website and social media stats\, and YOU will have the opportunity to learn more from the many benefit partners that provide benefits for YOUR business.  There will also be time to make new connections\, learn how to maximize your membership through the Chamber website and through advertising opportunities\, and don't forget about a GREAT lunch!\n\n\n\nWe hope you will join us!
X-ALT-DESC;FMTTYPE=text/html:<br />\nJoin us on <strong>Thursday\, July 18\, 2019</strong>\, for our first ever <strong>&quot\;State of the Chamber&quot\;</strong> luncheon.&nbsp\; During this luncheon we will share some highlights from the Chamber\, including membership growth\, retention\, website and social media stats\, and YOU will have the opportunity to learn more from the many benefit partners that provide benefits for YOUR business.&nbsp\; There will also be time to make new connections\, learn how to maximize your membership through the Chamber website and through advertising opportunities\, and don&#39\;t forget about a GREAT lunch!<br />\n<br />\nWe hope you will join us!
LOCATION:Zion Church 5780 Reynoldsburg-Baltimore Rd. Pickerington\, OH
UID:e.1451.12537
SEQUENCE:3
DTSTAMP:20260425T222750Z
URL:https://business.pickeringtonchamber.com/events/details/monthly-membership-luncheon-state-of-the-chamber-12537
END:VEVENT

END:VCALENDAR
