BEGIN:VCALENDAR
VERSION:2.0
PRODID:-//ChamberMaster//Event Calendar 2.0//EN
METHOD:PUBLISH
X-PUBLISHED-TTL:P3D
REFRESH-INTERVAL:P3D
CALSCALE:GREGORIAN
BEGIN:VEVENT
DTSTART:20190919T153000Z
DTEND:20190919T170000Z
X-MICROSOFT-CDO-ALLDAYEVENT:FALSE
SUMMARY:Monthly Membership Luncheon - Non-Profit Showcase!
DESCRIPTION:Join us on Thursday\, September 19\, 2019\, for the 5th Annual Non-Profit Showcase!  This event offers members and guests a great opportunity to connect with the many non-profit agencies that work tirelessly to help our community.  Non-Profit members will have the chance to set-up a display table in a "tradeshow" type of setting where members will visit with them to learn about who they are\, what they do\, and maybe even how to get involved.  \n\n\n\nThis event is also a GREAT chance to connect with your fellow members as there is NO set agenda and plenty of time for lunch and networking!\n\n\n\nCheck out who will be there:\n\n	Big Brothers Big Sisters of Fairfield County\n	Bottoms Up Diaper Drive\n	Center Ice Foundation\n	Christian Counseling Center\n	Diley Ridge Medical Center\n	Fairfield Community Health Center\n	Fairfield County ADAMH Board\n	Fairfield County Park District\n	Fairhope Hospice & Palliative Care\n	Habitat for Humanity of Fairfield County\n	New Horizons Mental Health Services\n	Pickerington Education Foundation\n	Pickerington Food Pantry\n	Pickerington Lions Club\n	Pickerington Public Library\n	Pickerington-Violet Township Historical Society\n	United Way of Fairfield County
X-ALT-DESC;FMTTYPE=text/html:<br />\nJoin us on&nbsp\;<strong>Thursday\, September 19\, 2019\,</strong>&nbsp\;for the&nbsp\;<strong>5th Annual Non-Profit Showcase!</strong>&nbsp\; This event offers members and guests a great opportunity to connect with the many non-profit agencies that work tirelessly to help our community.&nbsp\; Non-Profit members will have the chance to set-up a display table in a &quot\;tradeshow&quot\; type of setting where members will visit with them to learn about who they are\, what they do\, and maybe even how to get involved.&nbsp\;&nbsp\;<br />\n<br />\n<strong>This event is also a GREAT chance to connect with your fellow members as there is NO set agenda and plenty of time for lunch and networking!</strong><br />\n<br />\nCheck out who will be there:\n<ul>\n	<li style="color:black\;"><span style="font-family:arial\,sans-serif\;">Big Brothers Big Sisters of Fairfield County</span></li>\n	<li style="color:black\;"><span style="font-family:arial\,sans-serif\;">Bottoms Up Diaper Drive</span></li>\n	<li style="color:black\;"><span style="font-family:arial\,sans-serif\;">Center Ice Foundation</span></li>\n	<li style="color:black\;"><span style="font-family:arial\,sans-serif\;">Christian Counseling Center</span></li>\n	<li style="color:black\;"><span style="font-family:arial\,sans-serif\;">Diley Ridge Medical Center</span></li>\n	<li style="color:black\;"><span style="font-family:arial\,sans-serif\;">Fairfield Community Health Center</span></li>\n	<li style="color:black\;"><span style="font-family:arial\,sans-serif\;">Fairfield County ADAMH Board</span></li>\n	<li style="color:black\;"><span style="font-family:arial\,sans-serif\;">Fairfield County Park District</span></li>\n	<li style="color:black\;"><span style="font-family:arial\,sans-serif\;">Fairhope Hospice &amp\; Palliative Care</span></li>\n	<li style="color:black\;"><span style="font-family:arial\,sans-serif\;">Habitat for Humanity of Fairfield County</span></li>\n	<li style="color:black\;"><span style="font-family:arial\,sans-serif\;">New Horizons Mental Health Services</span></li>\n	<li style="color:black\;">Pickerington Education Foundation</li>\n	<li style="color:black\;"><span style="font-family:arial\,sans-serif\;">Pickerington Food Pantry</span></li>\n	<li style="color:black\;"><span style="font-family:arial\,sans-serif\;">Pickerington Lions Club</span></li>\n	<li style="color:black\;"><span style="font-family:arial\,sans-serif\;">Pickerington Public Library</span></li>\n	<li style="color:black\;"><span style="font-family:arial\,sans-serif\;">Pickerington-Violet Township Historical Society</span></li>\n	<li style="color:black\;"><span style="font-family:arial\,sans-serif\;">United Way of Fairfield County</span></li>\n</ul>\n
LOCATION:Zion Church 5780 Reynoldsburg-Baltimore Rd. Pickerington\, OH
UID:e.1451.12539
SEQUENCE:3
DTSTAMP:20260425T203343Z
URL:https://business.pickeringtonchamber.com/events/details/monthly-membership-luncheon-non-profit-showcase-12539
END:VEVENT

END:VCALENDAR
