BEGIN:VCALENDAR
VERSION:2.0
PRODID:-//ChamberMaster//Event Calendar 2.0//EN
METHOD:PUBLISH
X-PUBLISHED-TTL:P3D
REFRESH-INTERVAL:P3D
CALSCALE:GREGORIAN
BEGIN:VEVENT
DTSTART:20191219T163000Z
DTEND:20191219T180000Z
X-MICROSOFT-CDO-ALLDAYEVENT:FALSE
SUMMARY:Monthly Membership Luncheon - Holiday Speed Networking!
DESCRIPTION:Join us on Thursday\, December 19\, 2019\, for the final Membership Luncheon of the Year where you will have a chance to meet 30+ people\, share about your business\, and enjoy some holiday cheer!  \n\n\n\nDuring this luncheon\, we will host a holiday speed networking challenge!  Stay tuned for more details\, but secure your space early!  This will be a fun luncheon to wrap-up the year and get ready for 2020!
X-ALT-DESC;FMTTYPE=text/html:<br />\nJoin us on <strong>Thursday\, December 19\, 2019</strong>\, for the final Membership Luncheon of the Year where you will have a chance to meet 30+ people\, share about your business\, and enjoy some holiday cheer!&nbsp\;&nbsp\;<br />\n<br />\nDuring this luncheon\, we will host a <strong>holiday speed networking challenge</strong>!&nbsp\; Stay tuned for more details\, but secure your space early!&nbsp\; This will be a fun luncheon to wrap-up the year and get ready for 2020!
LOCATION:Zion Church 5780 Reynoldsburg-Baltimore Rd. Pickerington\, OH
UID:e.1451.12542
SEQUENCE:3
DTSTAMP:20260425T140909Z
URL:https://business.pickeringtonchamber.com/events/details/monthly-membership-luncheon-holiday-speed-networking-12542
END:VEVENT

END:VCALENDAR
