BEGIN:VCALENDAR
VERSION:2.0
PRODID:-//ChamberMaster//Event Calendar 2.0//EN
METHOD:PUBLISH
X-PUBLISHED-TTL:P3D
REFRESH-INTERVAL:P3D
CALSCALE:GREGORIAN
BEGIN:VEVENT
DTSTART:20190815T153000Z
DTEND:20190815T170000Z
X-MICROSOFT-CDO-ALLDAYEVENT:FALSE
SUMMARY:Monthly Membership Luncheon - "Fireside Chat with Chief Tod Cheney"
DESCRIPTION:Join us on Thursday\, August 15\, 2019\, as we host our first ever "Fireside Chat with City of Pickerington Police Chief\, Tod Cheney".  We are thrilled to welcome Chief Cheney to his new roll and look forward to learning more about his goals for the Pickerington Police Department\, hear how they assist businesses in our community\, and how they keep our streets safe at night.
X-ALT-DESC;FMTTYPE=text/html:<br />\nJoin us on<strong> Thursday\, August 15\, 2019\,</strong> as we host our first ever <strong>&quot\;Fireside Chat with City of Pickerington Police Chief\, Tod Cheney&quot\;</strong>.&nbsp\; We are thrilled to welcome Chief Cheney to his new roll and look forward to learning more about his goals for the Pickerington Police Department\, hear how they assist businesses in our community\, and how they keep our streets safe at night.
LOCATION:Zion Church 5780 Reynoldsburg-Baltimore Rd. Pickerington\, OH
UID:e.1451.12538
SEQUENCE:3
DTSTAMP:20260425T204610Z
URL:https://business.pickeringtonchamber.com/events/details/monthly-membership-luncheon-fireside-chat-with-chief-tod-cheney-12538
END:VEVENT

END:VCALENDAR
