BEGIN:VCALENDAR
VERSION:2.0
PRODID:-//ChamberMaster//Event Calendar 2.0//EN
METHOD:PUBLISH
X-PUBLISHED-TTL:P3D
REFRESH-INTERVAL:P3D
CALSCALE:GREGORIAN
BEGIN:VEVENT
DTSTART:20191017T151500Z
DTEND:20191017T171500Z
X-MICROSOFT-CDO-ALLDAYEVENT:FALSE
SUMMARY:Monthly Membership Luncheon - Candidate Forum
DESCRIPTION:Join us on Thursday\, October 17\, 2019\, as we host the Annual Candidate Forum presented by the Business Advocacy Committee.  This event will feature candidates seeking public office on the November ballot.  \n\n\n\nWho is attending?\n\n\n\nCity of Pickerington\, Council Candidates\n\nBrian Wisniewski\n\nKevin Kemper\n\nNick Derksen\n\nWilliam Reed\n\nJaclyn Rohaly (unopposed\, current Council member)\n\nCrystal Hicks (unable to attend\, current Council member)\n\n\n\nCity of Pickerington\, Mayor\, Lee Gray (attending\, unopposed)\n\n\n\nPickerington School Board Candidates\n\nChristian Johnson\n\nKeith Kristoff (current Board member)\n\nCathy Olshefski\n\nBarry Sutherland (unable to attend)\n\nTezlyn Reardon \n\n\n\nViolet Township Fiscal Officer Candidates\n\nVanessa Niekamp\n\nDan Griscom\n\nPeggy Portier\n\nJennifer Clemens (unable to attend)\n\n\n\nViolet Township Trustee\, Darrin Monhollen (unable to attend\, unopposed)
X-ALT-DESC;FMTTYPE=text/html:<br />\nJoin us on <strong>Thursday\, October 17\, 2019</strong>\, as we host the <strong>Annual Candidate Forum</strong>&nbsp\;presented by the <strong>Business Advocacy Committee.</strong>&nbsp\; This event will feature candidates seeking public office on the November ballot.&nbsp\;&nbsp\;<br />\n<br />\n<strong>Who is attending?</strong><br />\n<br />\n<u><strong>City of Pickerington\, Council Candidates</strong></u><br />\nBrian Wisniewski<br />\nKevin Kemper<br />\nNick Derksen<br />\nWilliam Reed<br />\nJaclyn Rohaly (unopposed\, current Council member)<br />\nCrystal Hicks (unable to attend\, current Council member)<br />\n<br />\n<strong>City of Pickerington\, Mayor\, Lee Gray (attending\, unopposed)</strong><br />\n<br />\n<u><strong>Pickerington School Board Candidates</strong></u><br />\nChristian Johnson<br />\nKeith Kristoff (current Board member)<br />\nCathy Olshefski<br />\nBarry Sutherland (unable to attend)<br />\nTezlyn Reardon&nbsp\;<br />\n<br />\n<u><strong>Violet Township Fiscal Officer Candidates</strong></u><br />\nVanessa Niekamp<br />\nDan Griscom<br />\nPeggy Portier<br />\nJennifer Clemens (unable to attend)<br />\n<br />\n<strong>Violet Township Trustee\, Darrin Monhollen (unable to attend\, unopposed)</strong>
LOCATION:Zion Church 5780 Reynoldsburg-Baltimore Rd. Pickerington\, OH
UID:e.1451.12540
SEQUENCE:3
DTSTAMP:20260425T190756Z
URL:https://business.pickeringtonchamber.com/events/details/monthly-membership-luncheon-candidate-forum-12540
END:VEVENT

END:VCALENDAR
