BEGIN:VCALENDAR
VERSION:2.0
PRODID:-//ChamberMaster//Event Calendar 2.0//EN
METHOD:PUBLISH
X-PUBLISHED-TTL:P3D
REFRESH-INTERVAL:P3D
CALSCALE:GREGORIAN
BEGIN:VEVENT
DTSTART:20191121T163000Z
DTEND:20191121T180000Z
X-MICROSOFT-CDO-ALLDAYEVENT:FALSE
SUMMARY:Monthly Membership Luncheon - Board Elections & Workforce Update!
DESCRIPTION:Join us on Thursday\, November 21\, 2019\, as we host the Annual Chamber Board of Directors Elections\, AND\, hear an update from Rick Szabrak from Fairfield County about the new Workforce Training Center.  \n\n\n\nDuring this event\, members will have the opportunity to vote on incoming Board members that will serve a three-year term.  Each candidate will share a quick update with those in attendance as to why they want to serve on the Chamber Board and what experience they have to assist with our future growth.\n\n\n\nWhile the votes are being tallied\, Rick Szabrak from Fairfield County will share news about the brand new Workforce Training Center set to open later this year and updates about the Fairfield County Workforce Readiness Certificate that students can earn during their senior year of high school.
X-ALT-DESC;FMTTYPE=text/html:<br />\nJoin us on <strong>Thursday\, November 21\, 2019</strong>\, as we host the <strong>Annual Chamber Board of Directors Elections</strong>\, AND\, hear an update from <strong>Rick Szabrak</strong> from <strong>Fairfield County</strong> about the new <strong>Workforce Training Center.&nbsp\;&nbsp\;</strong><br />\n<br />\nDuring this event\, members will have the opportunity to vote on incoming Board members that will serve a three-year term.&nbsp\; Each candidate will share a quick update with those in attendance as to why they want to serve on the Chamber Board and what experience they have to assist with our future growth.<br />\n<br />\nWhile the votes are being tallied\, Rick Szabrak from Fairfield County will share news about the brand new Workforce Training Center set to open later this year and updates about the Fairfield County Workforce Readiness Certificate that students can earn during their senior year of high school.
LOCATION:Zion Church 5780 Reynoldsburg-Baltimore Rd. Pickerington\, OH
UID:e.1451.12541
SEQUENCE:3
DTSTAMP:20260425T154522Z
URL:https://business.pickeringtonchamber.com/events/details/monthly-membership-luncheon-board-elections-workforce-update-12541
END:VEVENT

END:VCALENDAR
