BEGIN:VCALENDAR
VERSION:2.0
PRODID:-//ChamberMaster//Event Calendar 2.0//EN
METHOD:PUBLISH
X-PUBLISHED-TTL:P3D
REFRESH-INTERVAL:P3D
CALSCALE:GREGORIAN
BEGIN:VEVENT
DTSTART:20201207T223000Z
DTEND:20201207T233000Z
X-MICROSOFT-CDO-ALLDAYEVENT:FALSE
SUMMARY:Monday Makers
DESCRIPTION:Just in time for the holidays\, we will be using letter tiles to create a personalized ornament for gift giving!\n\n\n\n\nThis class will take place via Zoom. Once you register\, you will be contacted to pick up your ornament kit\, which will include the Zoom login information.\n\nMonday Makers is a monthly craft class\, where you can develop and show off your crafty skills. We will discover new techniques and mediums and create a unique take-home project each month.\n\nPlease note: Due to changing circumstances regarding Covid-19\, this class may be postponed or possibly canceled.
X-ALT-DESC;FMTTYPE=text/html:<div>\n<div style="margin-left:auto\; margin-right:auto">\n<p>Just in time for the holidays\, we will be using letter tiles to create a personalized ornament for gift giving!</p>\n</div>\n</div>\n\n<div>\n<p>This class will take place via Zoom. Once you register\, you will be contacted to pick up your ornament kit\, which will include the Zoom login information.</p>\n\n<p>Monday Makers is a monthly craft class\, where you can develop and show off your crafty skills. We will discover new techniques and mediums and create a unique take-home project each month.</p>\n\n<p>Please note: Due to changing circumstances regarding Covid-19\, this class may be postponed or possibly canceled.</p>\n</div>\n
LOCATION:
UID:e.1451.14823
SEQUENCE:3
DTSTAMP:20260424T185646Z
URL:https://business.pickeringtonchamber.com/events/details/monday-makers-14823
END:VEVENT

END:VCALENDAR
