BEGIN:VCALENDAR
VERSION:2.0
PRODID:-//ChamberMaster//Event Calendar 2.0//EN
METHOD:PUBLISH
X-PUBLISHED-TTL:P3D
REFRESH-INTERVAL:P3D
CALSCALE:GREGORIAN
BEGIN:VEVENT
DTSTART:20191123T150000Z
DTEND:20191123T190000Z
X-MICROSOFT-CDO-ALLDAYEVENT:FALSE
SUMMARY:Merry Marketplace
DESCRIPTION:Tis the season to Shop! Come browse and shop over 25 vendors and crafters in a fun environment. See Santa from 12:30-1:30! There will be chance raffles and 50/50 all to benefit Police Wives of Ohio\, Inc where we strive to support law enforcement officers and their families throughout Ohio. Combustion will have their bar open for beverages!
X-ALT-DESC;FMTTYPE=text/html:<br />\nTis the season to Shop! Come browse and shop over 25 vendors and crafters in a fun environment. See Santa from 12:30-1:30! There will be chance raffles and 50/50 all to benefit Police Wives of Ohio\, Inc where we strive to support law enforcement officers and their families throughout Ohio. Combustion will have their bar open for beverages!
LOCATION:Combustion Tap Room 80 W. Church St. Pickerington\, Ohio 43147
UID:e.1451.13749
SEQUENCE:3
DTSTAMP:20260425T154606Z
URL:https://business.pickeringtonchamber.com/events/details/merry-marketplace-13749
END:VEVENT

END:VCALENDAR
