BEGIN:VCALENDAR
VERSION:2.0
PRODID:-//ChamberMaster//Event Calendar 2.0//EN
METHOD:PUBLISH
X-PUBLISHED-TTL:P3D
REFRESH-INTERVAL:P3D
CALSCALE:GREGORIAN
BEGIN:VEVENT
DTSTART:20200207T133000Z
DTEND:20200207T213000Z
X-MICROSOFT-CDO-ALLDAYEVENT:FALSE
SUMMARY:Mental Health First Aid
DESCRIPTION:With an estimated 1 in 5 Americans experiencing a mental health disorder in any given year\, it's extremely likely that you will encounter someone in your family\, workplace\, school\, church\, or community who lives with a diagnosed mental disorder.\n\n\n\nFree Mental Health First Aid (MHFA) trainings are designed to teach members of the public how to respond in a mental health emergency and offer support to someone who appears to be in emotional distress. It's a little like learning CPR for mental health and addiction disorders. There's no need to be a clinician or a specialist  ? everyone can benefit from knowing the basics of how to respond in a crisis. There are two curricula that are offered at various times throughout the year.  Check back often to see when the course you are interested in will be offered.\n\n\n\nFor more details\, visit: http://www.fairfieldadamh.org/mental-health-first-aid.html.
X-ALT-DESC;FMTTYPE=text/html:<span style="font-family:arial\,helvetica\,sans-serif">With an estimated&nbsp\;<em>1 in 5 Americans&nbsp\;</em>experiencing a mental health disorder in any given year\, it&rsquo\;s extremely likely that you will encounter someone in your family\, workplace\, school\, church\, or community who lives with a diagnosed mental disorder.<br />\n<br />\n<strong>Free</strong>&nbsp\;Mental Health First Aid (MHFA) trainings are designed to teach members of the public how to respond in a mental health emergency and offer support to someone who appears to be in emotional distress.&nbsp\;It&rsquo\;s a little like learning CPR for mental health and addiction disorders.&nbsp\;There&#39\;s no need to be a clinician or a specialist&nbsp\;<span style="color:rgb(131\, 114\, 83)">&mdash\;?</span>&nbsp\;everyone can benefit from knowing the&nbsp\;basics of how to respond in a crisis. There are two curricula that are offered at various times throughout the year. &nbsp\;Check back often to see when the course you are interested in will be offered.<br />\n<br />\nFor more details\, visit:&nbsp\;<a href="http://www.fairfieldadamh.org/mental-health-first-aid.html">http://www.fairfieldadamh.org/mental-health-first-aid.html</a>.</span>
LOCATION:Ohio University - Lancaster Brasee Hall\, Room 414 1570 Granville Pike Lancaster\, Ohio 43130
UID:e.1451.14013
SEQUENCE:3
DTSTAMP:20260425T110506Z
URL:https://business.pickeringtonchamber.com/events/details/mental-health-first-aid-14013
END:VEVENT

END:VCALENDAR
