BEGIN:VCALENDAR
VERSION:2.0
PRODID:-//ChamberMaster//Event Calendar 2.0//EN
METHOD:PUBLISH
X-PUBLISHED-TTL:P3D
REFRESH-INTERVAL:P3D
CALSCALE:GREGORIAN
BEGIN:VEVENT
DTSTART:20191213T170000Z
DTEND:20191213T180000Z
X-MICROSOFT-CDO-ALLDAYEVENT:FALSE
SUMMARY:Membership Meeting with Theresa Byers
DESCRIPTION:Join Theresa Byers\, President & CEO of the Pickerington Area Chamber\, on Friday\, December 13th\, at Noon for a casual opportunity to learn about the new PACC Membership Dues/Benefits.  \n\n\n\nWe have worked all year to put together a brand NEW benefit package to enhance and maximize your membership with the Pickerington Area Chamber.  This meeting will be a great chance to learn about the new packages\, talk about the benefits that will be best for your business\, ask questions\, and make some new connections.
X-ALT-DESC;FMTTYPE=text/html:<br />\nJoin <strong>Theresa Byers\,</strong> President &amp\; CEO of the Pickerington Area Chamber\, on <strong>Friday\, December 13th\, at Noon&nbsp\;</strong>for a casual opportunity to learn about the new <strong>PACC Membership Dues/Benefits.&nbsp\;&nbsp\;</strong><br />\n<br />\nWe have worked all year to put together a brand NEW benefit package to enhance and maximize your membership with the Pickerington Area Chamber.&nbsp\; This meeting will be a great chance to learn about the new packages\, talk about the benefits that will be best for your business\, ask questions\, and make some new connections.&nbsp\;&nbsp\;
LOCATION:Pickerington Area Chamber 21 Lockville Rd.\, Suite 100 (Entrance on W. Columbus St.) Pickerington
UID:e.1451.13752
SEQUENCE:3
DTSTAMP:20260425T141021Z
URL:https://business.pickeringtonchamber.com/events/details/membership-meeting-with-theresa-byers-13752
END:VEVENT

END:VCALENDAR
