BEGIN:VCALENDAR
VERSION:2.0
PRODID:-//ChamberMaster//Event Calendar 2.0//EN
METHOD:PUBLISH
X-PUBLISHED-TTL:P3D
REFRESH-INTERVAL:P3D
CALSCALE:GREGORIAN
BEGIN:VEVENT
DTSTART:20191014T220000Z
DTEND:20191015T000000Z
X-MICROSOFT-CDO-ALLDAYEVENT:FALSE
SUMMARY:Meet the Candidates - Niekamp\, Kristoff\, Monhollen
DESCRIPTION:Join for a casual Meet & Greet with Keith Kristoff\, Vanessa Niekamp and Darrin Monhollen. Sit and talk\, ask questions\, and understand your candidate's position on issues that impact you\, your family and our community.
X-ALT-DESC;FMTTYPE=text/html:<br />\n<span style="color: rgb(29\, 33\, 41)\; font-family: Helvetica\, Arial\, sans-serif\; font-size: 14px\; white-space: pre-wrap\;">Join for a casual Meet &amp\; Greet with Keith Kristoff\, Vanessa Niekamp and Darrin Monhollen. Sit and talk\, ask questions\, and understand your candidate&#39\;s position on issues that impact you\, your family and our community.</span>
LOCATION:Cardo's Pizza & Tavern 7897 Refugee Rd. Pickerington
UID:e.1451.13724
SEQUENCE:3
DTSTAMP:20260425T173329Z
URL:https://business.pickeringtonchamber.com/events/details/meet-the-candidates-niekamp-kristoff-monhollen-13724
END:VEVENT

END:VCALENDAR
