BEGIN:VCALENDAR
VERSION:2.0
PRODID:-//ChamberMaster//Event Calendar 2.0//EN
METHOD:PUBLISH
X-PUBLISHED-TTL:P3D
REFRESH-INTERVAL:P3D
CALSCALE:GREGORIAN
BEGIN:VEVENT
DTSTART:20240409T170000Z
DTEND:20240409T181500Z
X-MICROSOFT-CDO-ALLDAYEVENT:FALSE
SUMMARY:Lunch Mob: Jay's Crab Boil & Oyster Bar
DESCRIPTION:Join us at Jay's Crab Boil & Oyster Bar on April 9 for your lunch break at 1-2 p.m. No cost to participate\, just pay for your own lunch! Bring a friend (someone who might want to join PACC!?). Please register if possible\, so we can provide the restaurant with an estimate of participants.
X-ALT-DESC;FMTTYPE=text/html:Join us at Jay&#39\;s Crab Boil &amp\; Oyster Bar on April 9 for your lunch break at 1-2 p.m. No cost to participate\, just pay for your own lunch! Bring a friend (someone who might want to join PACC!?). Please register if possible\, so we can provide the restaurant with an estimate of participants.
LOCATION:Jay's Crab Boil & Oyster Bar 10705 Blacklick Eastern Rd. Pickerington
UID:e.1451.16876
SEQUENCE:3
DTSTAMP:20260422T024405Z
URL:https://business.pickeringtonchamber.com/events/details/lunch-mob-jay-s-crab-boil-oyster-bar-16876
END:VEVENT

END:VCALENDAR
