BEGIN:VCALENDAR
VERSION:2.0
PRODID:-//ChamberMaster//Event Calendar 2.0//EN
METHOD:PUBLISH
X-PUBLISHED-TTL:P3D
REFRESH-INTERVAL:P3D
CALSCALE:GREGORIAN
BEGIN:VEVENT
DTSTART:20240214T170000Z
DTEND:20240214T180000Z
X-MICROSOFT-CDO-ALLDAYEVENT:FALSE
SUMMARY:Lunch Mob: Hangry City
DESCRIPTION:The Pickerington Area Chamber is bringing back the ever-popular Lunch Mob! Join us at Hangry City at noon on February 14 for your lunch break. No cost to participate\, just pay for your own lunch! It's Valentine's Day\, so bring a friend (someone who might want to join PACC!?). Please register if possible\, so we can provide the restaurant with an estimate of participants.
X-ALT-DESC;FMTTYPE=text/html:The Pickerington Area Chamber is bringing back the ever-popular Lunch Mob! Join us at Hangry City at noon on February 14 for your lunch break. No cost to participate\, just pay for your own lunch! It&#39\;s Valentine&#39\;s Day\, so bring a friend (someone who might want to join PACC!?). Please register if possible\, so we can provide the restaurant with an estimate of participants.
LOCATION:Hangry City Grille & Spirits 1252 Hill Rd. N. Pickerington
UID:e.1451.16873
SEQUENCE:3
DTSTAMP:20260422T074354Z
URL:https://business.pickeringtonchamber.com/events/details/lunch-mob-hangry-city-16873
END:VEVENT

END:VCALENDAR
