BEGIN:VCALENDAR
VERSION:2.0
PRODID:-//ChamberMaster//Event Calendar 2.0//EN
METHOD:PUBLISH
X-PUBLISHED-TTL:P3D
REFRESH-INTERVAL:P3D
CALSCALE:GREGORIAN
BEGIN:VEVENT
DTSTART:20200731T153000Z
DTEND:20200731T170000Z
X-MICROSOFT-CDO-ALLDAYEVENT:FALSE
SUMMARY:Lunch Mob! Cracker Barrel
DESCRIPTION:Come out and join us at Cracker Barrel on Friday\, July 31\, 2020. All the comfort foods\, warm atmosphere\, friends and soon to be friends all in one place. Burgers\, country fried steak\, breakfast - BACON - delicious desserts and more\n\n\n\nCracker Barrel Old Country Store offers a friendly home-away-from-home in its stores and restaurants. Guests are cared for like family\, enjoy home-style food and unique shopping - all at a fair price.\n\n\n\nThis event is an opportunity for YOU to join us in supporting a local Chamber Member\, make some new connections\, and enjoy a fabulous lunch with no strings attached. This is just about making connections and having a good time! We hope to see you there!
X-ALT-DESC;FMTTYPE=text/html:<br />\n<span style="color: rgb(29\, 33\, 41)\; font-family: Helvetica\, Arial\, sans-serif\; font-size: 14px\; white-space: pre-wrap\;">Come out and join us at <strong>Cracker Barrel </strong>on <strong>Friday\, July 31\, 2020</strong>. All the comfort foods\, warm atmosphere\, friends and soon to be friends all in one place. Burgers\, country fried steak\, breakfast - BACON - delicious desserts and more</span><br style="color: rgb(29\, 33\, 41)\; font-family: Helvetica\, Arial\, sans-serif\; font-size: 14px\; white-space: pre-wrap\;" />\n<br style="color: rgb(29\, 33\, 41)\; font-family: Helvetica\, Arial\, sans-serif\; font-size: 14px\; white-space: pre-wrap\;" />\n<span style="color: rgb(29\, 33\, 41)\; font-family: Helvetica\, Arial\, sans-serif\; font-size: 14px\; white-space: pre-wrap\;">Cracker Barrel Old Country Store offers a friendly home-away-from-home in its stores and restaurants. Guests are cared for like family\, enjoy home-style food and unique shopping - all at a fair price.</span><br style="color: rgb(29\, 33\, 41)\; font-family: Helvetica\, Arial\, sans-serif\; font-size: 14px\; white-space: pre-wrap\;" />\n<br style="color: rgb(29\, 33\, 41)\; font-family: Helvetica\, Arial\, sans-serif\; font-size: 14px\; white-space: pre-wrap\;" />\n<span style="color: rgb(29\, 33\, 41)\; font-family: Helvetica\, Arial\, sans-serif\; font-size: 14px\; white-space: pre-wrap\;">This event is an opportunity for YOU to join us in supporting a local Chamber Member\, make some new connections\, and enjoy a fabulous lunch with no strings attached. This is just about making connections and having a good time! We hope to see you there!</span>
LOCATION:Cracker Barrel 1860 Winderly Way Pickerington\, OH 43147
UID:e.1451.14528
SEQUENCE:3
DTSTAMP:20260425T024128Z
URL:https://business.pickeringtonchamber.com/events/details/lunch-mob-cracker-barrel-14528
END:VEVENT

END:VCALENDAR
