BEGIN:VCALENDAR
VERSION:2.0
PRODID:-//ChamberMaster//Event Calendar 2.0//EN
METHOD:PUBLISH
X-PUBLISHED-TTL:P3D
REFRESH-INTERVAL:P3D
CALSCALE:GREGORIAN
BEGIN:VEVENT
DTSTART:20240709T153000Z
DTEND:20240709T163000Z
X-MICROSOFT-CDO-ALLDAYEVENT:FALSE
SUMMARY:Lunch Mob: Cardo's Pizza & Tavern
DESCRIPTION:Join us at Cardo's Pizza & Tavern at 11:30 a.m. on Tuesday\, July 9\, for your lunch break. No cost to participate\, just pay for your own lunch! Bring a friend (someone who might want to join PACC!?). Please register if possible\, so we can provide the restaurant with an estimate of participants.
X-ALT-DESC;FMTTYPE=text/html:Join us at Cardo&#39\;s Pizza &amp\; Tavern at 11:30 a.m. on Tuesday\, July 9\, for your lunch break. No cost to participate\, just pay for your own lunch! Bring a friend (someone who might want to join PACC!?). Please register if possible\, so we can provide the restaurant with an estimate of participants.
LOCATION:Cardo's Pizza & Tavern 7897 Refugee Rd. Pickerington
UID:e.1451.16896
SEQUENCE:3
DTSTAMP:20260421T231705Z
URL:https://business.pickeringtonchamber.com/events/details/lunch-mob-cardo-s-pizza-tavern-16896
END:VEVENT

END:VCALENDAR
