BEGIN:VCALENDAR
VERSION:2.0
PRODID:-//ChamberMaster//Event Calendar 2.0//EN
METHOD:PUBLISH
X-PUBLISHED-TTL:P3D
REFRESH-INTERVAL:P3D
CALSCALE:GREGORIAN
BEGIN:VEVENT
DTSTART:20190329T153000Z
DTEND:20190329T170000Z
X-MICROSOFT-CDO-ALLDAYEVENT:FALSE
SUMMARY:Lunch Mob! at Pivot Sports Bar and Grill
DESCRIPTION:In March\, we are heading to Pivot Sports Bar and Grill for Lunch Mob!\n\n\n\nPivot Sports Bar and Grill is committed to showing everyone a fun and relaxing time. With TVs covering every angle\, a spacious outdoor patio\, and indoor and outdoor fireplaces\, Pivot is perfect for all of your events - big and small. Pivot welcomes families and friends alike to enjoy some pizza and wings. Celebrate a birthday party! Catch the game! Everyone can expect to have a fun and delicious time at Pivot Sports Bar and Grill!\n\n\n\nThis event is an opportunity for YOU to join us in supporting a local Chamber Member\, make some new connections\, and enjoy a fabulous lunch with no strings attached.  This is just about making connections and having a good time!  We hope to see you there!
X-ALT-DESC;FMTTYPE=text/html:<span style="color: rgb(51\, 51\, 51)\; font-family: sans-serif\, Arial\, Verdana\, &quot\;Trebuchet MS&quot\;\; font-size: 13px\; background-color: rgb(255\, 255\, 255)\;">In March\, we are heading to Pivot Sports Bar and Grill for Lunch Mob!</span><br style="color: rgb(51\, 51\, 51)\; font-family: sans-serif\, Arial\, Verdana\, &quot\;Trebuchet MS&quot\;\; font-size: 13px\;" />\n<br style="color: rgb(51\, 51\, 51)\; font-family: sans-serif\, Arial\, Verdana\, &quot\;Trebuchet MS&quot\;\; font-size: 13px\;" />\n<span style="color: rgb(51\, 51\, 51)\; font-family: sans-serif\, Arial\, Verdana\, &quot\;Trebuchet MS&quot\;\; font-size: 13px\; background-color: rgb(255\, 255\, 255)\;">Pivot Sports Bar and Grill is committed to showing everyone a fun and relaxing time. With TVs covering every angle\, a spacious outdoor patio\, and indoor and outdoor fireplaces\, Pivot is perfect for all of your events - big and small. Pivot welcomes families and friends alike to enjoy some pizza and wings. Celebrate a birthday party! Catch the game! Everyone can expect to have a fun and delicious time at Pivot Sports Bar and Grill!</span><br style="color: rgb(51\, 51\, 51)\; font-family: sans-serif\, Arial\, Verdana\, &quot\;Trebuchet MS&quot\;\; font-size: 13px\;" />\n<br style="color: rgb(51\, 51\, 51)\; font-family: sans-serif\, Arial\, Verdana\, &quot\;Trebuchet MS&quot\;\; font-size: 13px\;" />\n<span style="color: rgb(51\, 51\, 51)\; font-family: sans-serif\, Arial\, Verdana\, &quot\;Trebuchet MS&quot\;\; font-size: 13px\; background-color: rgb(255\, 255\, 255)\;">This event is an opportunity for YOU to join us in supporting a local Chamber Member\, make some new connections\, and enjoy a fabulous lunch with no strings attached.&nbsp\; This is just about making connections and having a good time!&nbsp\; We hope to see you there!</span>
LOCATION:Pivot Sports Bar and Grill 10705 Blacklick-Eastern Rd NW Pickerington\, OH 43147 (614) 417-1516
UID:e.1451.12702
SEQUENCE:3
DTSTAMP:20260426T041036Z
URL:https://business.pickeringtonchamber.com/events/details/lunch-mob-at-pivot-sports-bar-and-grill-12702
END:VEVENT

END:VCALENDAR
