BEGIN:VCALENDAR
VERSION:2.0
PRODID:-//ChamberMaster//Event Calendar 2.0//EN
METHOD:PUBLISH
X-PUBLISHED-TTL:P3D
REFRESH-INTERVAL:P3D
CALSCALE:GREGORIAN
BEGIN:VEVENT
DTSTART:20240305T170000Z
DTEND:20240305T180000Z
X-MICROSOFT-CDO-ALLDAYEVENT:FALSE
SUMMARY:Lunch & Learn: Chamber Insurance Plans
DESCRIPTION:NOTE: This is not a Quarterly Membership Luncheon. This is solely for people interested in learning about the Chamber Healthcare Program.\n\n\n\nThe Pickerington Area Chamber's Anthem Healthcare Program\, in partnership with the Southern Ohio Chamber Alliance and offered through PACC member insurance companies\, is a comprehensive and cost-effective alternative to traditional plans. This program offers affordable\, accessible\, and effective healthcare options for Pickerington Area Chamber members both businesses and individuals alike. This program helps businesses provide for the medical expenses of their employees and themselves through a community-centered approach and gives individuals access to high quality\, affordable healthcare.\n\n\n\nHire and retain top talent by providing group Health Insurance as a benefit!\n\n\n\nAttend this Lunch & Learn at the Pickerington Area Chamber to learn about affordable options available to Pickerington Area Chamber members.\n\n\n\nLunch is provided. Make selection when registering.
X-ALT-DESC;FMTTYPE=text/html:<strong>NOTE: This is not a Quarterly Membership Luncheon. This is solely for people interested in learning about the Chamber Healthcare Program.</strong><br />\n<br />\nThe Pickerington Area Chamber&#39\;s Anthem Healthcare Program\, in partnership with the Southern Ohio Chamber Alliance and offered through PACC member insurance companies\, is a comprehensive and cost-effective alternative to traditional plans. This program offers affordable\, accessible\, and effective healthcare options for Pickerington Area Chamber members&mdash\;both businesses and individuals alike. This program helps businesses provide for the medical expenses of their employees and themselves through a community-centered approach and gives individuals access to high quality\, affordable healthcare.<br />\n<br />\nHire and retain top talent by providing group Health Insurance as a benefit!<br />\n<br />\nAttend this Lunch &amp\; Learn at the Pickerington Area Chamber to learn about affordable options&nbsp\;available to Pickerington Area Chamber members.<br />\n<br />\n<em><strong>Lunch is provided. Make selection when registering.</strong></em>
LOCATION:Pickerington Area Chamber 21 Lockville Rd. (entrance faces Columbus St.)
UID:e.1451.16874
SEQUENCE:3
DTSTAMP:20260422T060642Z
URL:https://business.pickeringtonchamber.com/events/details/lunch-learn-chamber-insurance-plans-16874
END:VEVENT

END:VCALENDAR
