BEGIN:VCALENDAR
VERSION:2.0
PRODID:-//ChamberMaster//Event Calendar 2.0//EN
METHOD:PUBLISH
X-PUBLISHED-TTL:P3D
REFRESH-INTERVAL:P3D
CALSCALE:GREGORIAN
BEGIN:VEVENT
DTSTART:20220807T180000Z
DTEND:20220807T200000Z
X-MICROSOFT-CDO-ALLDAYEVENT:FALSE
SUMMARY:Kids Day at the Pickerington-Violet Township Historical Museum
DESCRIPTION:Free admission for the young and young-at-heart! Enjoy old-time outdoor games on our front lawn. Inside our Museum\, experience dial telephones and manual typewriters\, play "Guess the Gadgets" (unusual items in our Museum's collections)\, and spin the prize wheel to win a prize. In the Museum's Lower Level\, try on vintage clothing and accessories and take a selfie. \nThe Pickerington-Violet Township Historical Society Museum is located at 15 E. Columbus Street\n\nin downtown Pickerington. Check out our website: PickHistory.org.
X-ALT-DESC;FMTTYPE=text/html:Free admission for the young and young-at-heart! Enjoy old-time outdoor games on our front lawn. Inside our Museum\, experience dial telephones and manual typewriters\, play &quot\;Guess the Gadgets&quot\; (unusual items in our Museum&#39\;s collections)\, and spin the prize wheel to win a prize. In the Museum&#39\;s Lower Level\, try on vintage clothing and accessories and take a selfie.&nbsp\;\n<div style="text-align:center"><strong><em><span style="color:#FF0000">The Pickerington-Violet Township Historical Society Museum is located at 15 E. Columbus Street<br />\nin downtown Pickerington. Check out our website: PickHistory.org.</span></em></strong></div>\n
LOCATION:
UID:e.1451.15779
SEQUENCE:3
DTSTAMP:20260423T105835Z
URL:https://business.pickeringtonchamber.com/events/details/kids-day-at-the-pickerington-violet-township-historical-museum-15779
END:VEVENT

END:VCALENDAR
