BEGIN:VCALENDAR
VERSION:2.0
PRODID:-//ChamberMaster//Event Calendar 2.0//EN
METHOD:PUBLISH
X-PUBLISHED-TTL:P3D
REFRESH-INTERVAL:P3D
CALSCALE:GREGORIAN
BEGIN:VEVENT
DTSTART:20190626T113000Z
DTEND:20190626T123000Z
X-MICROSOFT-CDO-ALLDAYEVENT:FALSE
SUMMARY:Key4Women & Treplus Communities Present\, Lending 101
DESCRIPTION:Join Key4Women and Treplus Communities on Wednesday\, June 26\, 2019\, as the present\, "Lending 101"\, an educational networking event to provide direction on a path to financial wellness for yourself and your business.\n\n\n\nSpecial guest speaker\, Emily Hulse from Treplus Communities.
X-ALT-DESC;FMTTYPE=text/html:<br />\nJoin Key4Women and Treplus Communities on Wednesday\, June 26\, 2019\, as the present\, &quot\;Lending 101&quot\;\, an educational networking event to provide direction on a path to financial wellness for yourself and your business.<br />\n<br />\nSpecial guest speaker\, Emily Hulse from Treplus Communities.
LOCATION:Treplus Community Redbud Commons 602 Redbud Rd. (off Diley) Pickerington\, OH 43147
UID:e.1451.13328
SEQUENCE:3
DTSTAMP:20260425T235518Z
URL:https://business.pickeringtonchamber.com/events/details/key4women-treplus-communities-present-lending-101-13328
END:VEVENT

END:VCALENDAR
