BEGIN:VCALENDAR
VERSION:2.0
PRODID:-//ChamberMaster//Event Calendar 2.0//EN
METHOD:PUBLISH
X-PUBLISHED-TTL:P3D
REFRESH-INTERVAL:P3D
CALSCALE:GREGORIAN
BEGIN:VEVENT
DTSTART:20191121T130000Z
DTEND:20191121T140000Z
X-MICROSOFT-CDO-ALLDAYEVENT:FALSE
SUMMARY:Key4Women Presents: Work Life Balance
DESCRIPTION:Join Key4Women on Thursday\, November 21st at 8 a.m. for networking and a discussion on how to juggle that work life balance\, especially with the holiday season approaching.  You will hear from business owner\, Kerri Foulks\, on her success with maintaining balance!\n\n\n\nKula Yoga and Wellness will guide you on a short yoga session to get your mind and body prepared for the day along with tips we can use daily to keep that work life balance!
X-ALT-DESC;FMTTYPE=text/html:<br />\nJoin <strong>Key4Women</strong> on <strong>Thursday\, November 21st </strong>at 8 a.m. for networking and a discussion on how to juggle that <strong>work life balance</strong>\, especially with the holiday season approaching.&nbsp\; You will hear from business owner\, <strong>Kerri Foulk</strong>s\, on her success with maintaining balance!<br />\n<br />\n<strong>Kula Yoga and Wellness</strong> will guide you on a short yoga session to get your mind and body prepared for the day along with tips we can use daily to keep that work life balance!
LOCATION:Kula Yoga and Wellness 18 W. Columbus St. Pickerington
UID:e.1451.13733
SEQUENCE:3
DTSTAMP:20260425T155618Z
URL:https://business.pickeringtonchamber.com/events/details/key4women-presents-work-life-balance-13733
END:VEVENT

END:VCALENDAR
