BEGIN:VCALENDAR
VERSION:2.0
PRODID:-//ChamberMaster//Event Calendar 2.0//EN
METHOD:PUBLISH
X-PUBLISHED-TTL:P3D
REFRESH-INTERVAL:P3D
CALSCALE:GREGORIAN
BEGIN:VEVENT
DTSTART:20190719T213000Z
DTEND:20190719T223000Z
X-MICROSOFT-CDO-ALLDAYEVENT:FALSE
SUMMARY:Karma Yoga at Kula Yoga & Wellness
DESCRIPTION:Join Kula Yoga and Wellness every Friday at 5:30 p.m. for Karma Yoga.  This class is donation based/pay what you can. All proceeds will go to a cause chosen each month by you! Our staff will rotate teaching this class and offering whatever type of yoga is calling to them. All levels welcome! *Cash donations only please*
X-ALT-DESC;FMTTYPE=text/html:<br>\nJoin Kula Yoga and Wellness every Friday at 5:30 p.m. for Karma Yoga.&nbsp\;&nbsp\;<span style="color: rgba(0\, 0\, 0\, 0.65)\; font-family: futura-pt\; font-size: 16px\; letter-spacing: 0.45px\; background-color: rgba(0\, 0\, 0\, 0.01)\;">This class is donation based/pay what you can. All proceeds will go to a cause chosen each month by you! Our staff will rotate teaching this class and offering whatever type of yoga is calling to them. All levels welcome! *Cash donations only please*</span>
LOCATION:Kula Yoga and Wellness 18 W. Columbus St. Pickerington
UID:e.1451.13398
SEQUENCE:3
DTSTAMP:20260425T222907Z
URL:https://business.pickeringtonchamber.com/events/details/karma-yoga-at-kula-yoga-wellness-07-19-2019-13398
END:VEVENT

END:VCALENDAR
