BEGIN:VCALENDAR
VERSION:2.0
PRODID:-//ChamberMaster//Event Calendar 2.0//EN
METHOD:PUBLISH
X-PUBLISHED-TTL:P3D
REFRESH-INTERVAL:P3D
CALSCALE:GREGORIAN
BEGIN:VEVENT
DTSTART:20200103T223000Z
DTEND:20200103T233000Z
X-MICROSOFT-CDO-ALLDAYEVENT:FALSE
SUMMARY:Karma Yoga
DESCRIPTION:Karma Yoga. This class is donation based/pay what you can. All proceeds will go to a cause chosen each month by you! Our staff will rotate teaching this class and offering whatever type of yoga is calling to them. All levels welcome! *Cash donations only please*
X-ALT-DESC;FMTTYPE=text/html:<div color:="" font-size:="" sans="" source="">\n<div>\n<p><span style="font-family:verdana\;"><strong>Karma Yoga.</strong> This class is donation based/pay what you can. All proceeds will go to a cause chosen each month by you! Our staff will rotate teaching this class and offering whatever type of yoga is calling to them. All levels welcome! *Cash donations only please*</span></p>\n</div>\n</div>\n
LOCATION:Kula Yoga & Wellness 18 W Columbus St Pickerington\, OH 43147
UID:e.1451.13712
SEQUENCE:3
DTSTAMP:20260425T140253Z
URL:https://business.pickeringtonchamber.com/events/details/karma-yoga-01-03-2020-13712
END:VEVENT

END:VCALENDAR
