BEGIN:VCALENDAR
VERSION:2.0
PRODID:-//ChamberMaster//Event Calendar 2.0//EN
METHOD:PUBLISH
X-PUBLISHED-TTL:P3D
REFRESH-INTERVAL:P3D
CALSCALE:GREGORIAN
BEGIN:VEVENT
DTSTART:20190325T223000Z
DTEND:20190325T233000Z
X-MICROSOFT-CDO-ALLDAYEVENT:FALSE
SUMMARY:Junior STEM Book Club
DESCRIPTION:Held at Pickerington Main\; open to students in grades 2-3.\n\nBack by popular demand: book clubs for young readers!\n\nThe Junior STEM Book Club is an event for kids in grades 2 and 3 that brings together literature and STEM (Science\, Technology\, Engineering\, and Math) activities: first we talk\, then we create based on the book we've read!\n\nThe January 28 selection is Lunch Lady and the Cyborg Substitute by Jarrett Krosoczka\n\nThe March 25 selection is Franny K. Stein: Lunch Walks Among Us by Jim Benton\n\nRegistration is required: contact our Pickerington Main Youth Services Department at 614-837-4104\, ext. 231\, or register online. Books will be held at the Youth Services Desk.\n\nParents\, we also host a STEM Book Club for grades 4 and 5 in February and April: each book club includes book discussions and STEM activities\, but we tailor them to the grade level for students. Contact us with your questions!
X-ALT-DESC;FMTTYPE=text/html:<p style="box-sizing: inherit\; border: 0px\; font-family: &quot\;Source Sans Pro&quot\;\, &quot\;Helvetica Neue&quot\;\, Helvetica\, Arial\, sans-serif\; font-size: 16px\; margin: 0px 0px 10px\; outline: 0px\; padding: 0px\; vertical-align: baseline\; word-break: break-word\; line-height: 1.7\; color: rgb(72\, 72\, 72)\; background-color: rgb(255\, 255\, 255)\;">Held at Pickerington Main\; open to students in grades 2-3.</p>\n\n<p style="box-sizing: inherit\; border: 0px\; font-family: &quot\;Source Sans Pro&quot\;\, &quot\;Helvetica Neue&quot\;\, Helvetica\, Arial\, sans-serif\; font-size: 16px\; margin: 0px 0px 10px\; outline: 0px\; padding: 0px\; vertical-align: baseline\; word-break: break-word\; line-height: 1.7\; color: rgb(72\, 72\, 72)\; background-color: rgb(255\, 255\, 255)\;">Back by popular demand: book clubs for young readers!</p>\n\n<p style="box-sizing: inherit\; border: 0px\; font-family: &quot\;Source Sans Pro&quot\;\, &quot\;Helvetica Neue&quot\;\, Helvetica\, Arial\, sans-serif\; font-size: 16px\; margin: 0px 0px 10px\; outline: 0px\; padding: 0px\; vertical-align: baseline\; word-break: break-word\; line-height: 1.7\; color: rgb(72\, 72\, 72)\; background-color: rgb(255\, 255\, 255)\;">The Junior STEM Book Club is an event for kids in grades 2 and 3 that brings together literature and STEM (Science\, Technology\, Engineering\, and Math) activities: first we talk\, then we create based on the book we&rsquo\;ve read!</p>\n\n<p style="box-sizing: inherit\; border: 0px\; font-family: &quot\;Source Sans Pro&quot\;\, &quot\;Helvetica Neue&quot\;\, Helvetica\, Arial\, sans-serif\; font-size: 16px\; margin: 0px 0px 10px\; outline: 0px\; padding: 0px\; vertical-align: baseline\; word-break: break-word\; line-height: 1.7\; color: rgb(72\, 72\, 72)\; background-color: rgb(255\, 255\, 255)\;">The January 28 selection is&nbsp\;<em style="box-sizing: inherit\; border: 0px\; font-family: inherit\; font-weight: inherit\; margin: 0px\; outline: 0px\; padding: 0px\; vertical-align: baseline\;">Lunch Lady and the Cyborg Substitute</em>&nbsp\;by Jarrett Krosoczka</p>\n\n<p style="box-sizing: inherit\; border: 0px\; font-family: &quot\;Source Sans Pro&quot\;\, &quot\;Helvetica Neue&quot\;\, Helvetica\, Arial\, sans-serif\; font-size: 16px\; margin: 0px 0px 10px\; outline: 0px\; padding: 0px\; vertical-align: baseline\; word-break: break-word\; line-height: 1.7\; color: rgb(72\, 72\, 72)\; background-color: rgb(255\, 255\, 255)\;">The March 25 selection is&nbsp\;<em style="box-sizing: inherit\; border: 0px\; font-family: inherit\; font-weight: inherit\; margin: 0px\; outline: 0px\; padding: 0px\; vertical-align: baseline\;">Franny K. Stein: Lunch Walks Among Us</em>&nbsp\;by Jim Benton</p>\n\n<p style="box-sizing: inherit\; border: 0px\; font-family: &quot\;Source Sans Pro&quot\;\, &quot\;Helvetica Neue&quot\;\, Helvetica\, Arial\, sans-serif\; font-size: 16px\; margin: 0px 0px 10px\; outline: 0px\; padding: 0px\; vertical-align: baseline\; word-break: break-word\; line-height: 1.7\; color: rgb(72\, 72\, 72)\; background-color: rgb(255\, 255\, 255)\;">Registration is required: contact our Pickerington Main Youth Services Department at 614-837-4104\, ext. 231\, or register online. Books will be held at the Youth Services Desk.</p>\n\n<p style="box-sizing: inherit\; border: 0px\; font-family: &quot\;Source Sans Pro&quot\;\, &quot\;Helvetica Neue&quot\;\, Helvetica\, Arial\, sans-serif\; font-size: 16px\; margin: 0px 0px 10px\; outline: 0px\; padding: 0px\; vertical-align: baseline\; word-break: break-word\; line-height: 1.7\; color: rgb(72\, 72\, 72)\; background-color: rgb(255\, 255\, 255)\;">Parents\, we also host a STEM Book Club for grades 4 and 5 in February and April: each book club includes book discussions and STEM activities\, but we tailor them to the grade level for students. Contact us with your questions!</p>\n
LOCATION:Pickeringon Public Library 201 Opportunity Way Pickerington\, OH 43147 (614) 837-4104\, ext. 231
UID:e.1451.12644
SEQUENCE:3
DTSTAMP:20260426T040746Z
URL:https://business.pickeringtonchamber.com/events/details/junior-stem-book-club-12644
END:VEVENT

END:VCALENDAR
