BEGIN:VCALENDAR
VERSION:2.0
PRODID:-//ChamberMaster//Event Calendar 2.0//EN
METHOD:PUBLISH
X-PUBLISHED-TTL:P3D
REFRESH-INTERVAL:P3D
CALSCALE:GREGORIAN
BEGIN:VEVENT
DTSTART:20200303T170000Z
DTEND:20200303T190000Z
X-MICROSOFT-CDO-ALLDAYEVENT:FALSE
SUMMARY:It's Tech Week @ your library!
DESCRIPTION:We have a full schedule of classes to help you become the tech geek you have always wanted to be.\n\n\n\nMonday\, March 2\, 12:00 - 2:00 p.m. (Pickerington Main & Sycamore Plaza)\n\nPlay with Ozobots!   A fun interactive activity to introduce programming and coding skills.\n\n\n\nTuesday\, March 3\, 12:00   2:00 p.m. (Pickerington Main only)\n\nIntroduction to Cricut! Learn how to use Cricut with Inkscape to create a simple craft.\n\n\n\nWednesday\, March 4\, 12:00   2:00 p.m. (Pickerington Main & Sycamore Plaza)\n\nE-branch introduction. Bring your device or follow along on ours for one on one help learning how to use our e-book and e-audio book resources.\n\n\n\nThursday\, March 5\, 12:00   2:00 p.m. (Pickerington Main only)\n\nPhoto Editing using only your phone! We will teach you how to edit your photos using the Snapseed application.
X-ALT-DESC;FMTTYPE=text/html:We have a full schedule of classes to help you become the tech geek you have always wanted to be.<br />\n<br />\n<span style="background-color:white"><strong>Monday\, March 2\,&nbsp\;12:00 - 2:00 p.m.</strong> (Pickerington Main &amp\; Sycamore Plaza)</span><br />\n<span style="background-color:white">Play with Ozobots! &ndash\; A fun interactive activity to introduce programming and coding skills.</span><br />\n<br />\n<span style="background-color:#f3f3f3"><strong>Tuesday\, March 3\, 12:00 &ndash\; 2:00 p.m.</strong> (Pickerington Main only)</span><br />\n<span style="background-color:#f3f3f3">Introduction to Cricut! Learn how to use Cricut with Inkscape to create a simple craft.</span><br />\n<br />\n<span style="background-color:#f3f3f3"><strong>Wednesday\, March 4\, 12:00 &ndash\; 2:00 p.m</strong>. (Pickerington Main &amp\; Sycamore Plaza)</span><br />\n<span style="background-color:#f3f3f3">E-branch introduction. Bring your device or follow along on ours for one on one help learning how to use our e-book and e-audio book resources.</span><br />\n<br />\n<strong>Thursday\, March 5\, 12:00 &ndash\; 2:00 p.m</strong>. (Pickerington Main only)<br />\nPhoto Editing using only your phone! We will teach you how to edit your photos using the Snapseed application.<br />\n&nbsp\;
LOCATION:Pickerington Main Library 201 Opportunity Way Pickerington\, OH 43147 Sycamore Plaza Library 7861 Refugee Rd Pickerington\, OH 43147
UID:e.1451.14226
SEQUENCE:3
DTSTAMP:20260425T104635Z
URL:https://business.pickeringtonchamber.com/events/details/it-s-tech-week-your-library-03-03-2020-14226
END:VEVENT

END:VCALENDAR
