BEGIN:VCALENDAR
VERSION:2.0
PRODID:-//ChamberMaster//Event Calendar 2.0//EN
METHOD:PUBLISH
X-PUBLISHED-TTL:P3D
REFRESH-INTERVAL:P3D
CALSCALE:GREGORIAN
BEGIN:VEVENT
DTSTART:20230723T180000Z
DTEND:20230807T020000Z
X-MICROSOFT-CDO-ALLDAYEVENT:FALSE
SUMMARY:“Into the Woods”
DESCRIPTION:OUL's community theatre production runs July 23-August 6\, 2023. Ticket: $20. This is a featured event during the Lancaster Festival. Click here for tickets. https://www.onthestage.tickets/show/ohio-university-lancaster-theatre/6414f12d64457e0e3c0d053c
X-ALT-DESC;FMTTYPE=text/html:OUL&#39\;s community theatre production runs July 23-August 6\, 2023. Ticket: $20. This is a featured event during the Lancaster Festival. Click here for tickets. https://www.onthestage.tickets/show/ohio-university-lancaster-theatre/6414f12d64457e0e3c0d053c
LOCATION:Ohio University Lancaster
UID:e.1451.16682
SEQUENCE:3
DTSTAMP:20260422T172426Z
URL:https://business.pickeringtonchamber.com/events/details/into-the-woods-16682
END:VEVENT

END:VCALENDAR
