BEGIN:VCALENDAR
VERSION:2.0
PRODID:-//ChamberMaster//Event Calendar 2.0//EN
METHOD:PUBLISH
X-PUBLISHED-TTL:P3D
REFRESH-INTERVAL:P3D
CALSCALE:GREGORIAN
BEGIN:VEVENT
DTSTART:20240406T140000Z
DTEND:20240406T170000Z
X-MICROSOFT-CDO-ALLDAYEVENT:FALSE
SUMMARY:Home & Garden Expo
DESCRIPTION:The Second Annual Pickerington Area Home & Garden Expo\, presented by Ohio Water Heaters\, will feature approximately 38 vendors and is free to the public. Entertainment\, food truck\, and giveaways! \n\n\n\nApril 6\, 10 a.m.-1 p.m.\n\nCombustion Brewery & Taproom
X-ALT-DESC;FMTTYPE=text/html:<p>The <strong>Second Annual Pickerington Area Home &amp\; Garden Expo</strong>\, <em>presented by Ohio Water Heaters</em>\,&nbsp\;will feature approximately 38 vendors and is free to the public. Entertainment\, food truck\, and giveaways!&nbsp\;<br />\n<br />\n<strong>April 6\, 10 a.m.-1 p.m.<br />\nCombustion Brewery &amp\; Taproom</strong></p>\n
LOCATION:Combustion Brewery & Taproom 80 W. Church St. Upstairs Event Space Pickerington\, OH 43147
UID:e.1451.16825
SEQUENCE:3
DTSTAMP:20260422T024345Z
URL:https://business.pickeringtonchamber.com/events/details/home-garden-expo-16825
END:VEVENT

END:VCALENDAR
