BEGIN:VCALENDAR
VERSION:2.0
PRODID:-//ChamberMaster//Event Calendar 2.0//EN
METHOD:PUBLISH
X-PUBLISHED-TTL:P3D
REFRESH-INTERVAL:P3D
CALSCALE:GREGORIAN
BEGIN:VEVENT
DTSTART:20230401T140000Z
DTEND:20230401T170000Z
X-MICROSOFT-CDO-ALLDAYEVENT:FALSE
SUMMARY:Home & Garden Expo
DESCRIPTION:The First Annual Pickerington Area Home & Garden Expo\, presented by Ohio Water Heaters\, will feature approximately 30 vendors and is free to the public. Entertainment\, food truck\, and giveaways!\n\n\n\nApril 1\, 10 a.m.-1 p.m.\n\nCombustion Brewery & Taproom
X-ALT-DESC;FMTTYPE=text/html:<p>The <strong>First Annual Pickerington Area Home &amp\; Garden Expo</strong>\, <em>presented by Ohio Water Heaters</em>\,&nbsp\;will feature approximately 30 vendors and is free to the public. Entertainment\, food truck\, and giveaways!<br />\n<br />\n<strong>April 1\, 10 a.m.-1 p.m.<br />\nCombustion Brewery &amp\; Taproom</strong></p>\n
LOCATION:Combustion Brewery & Taproom 80 W. Church St.\, Suite 101\, Pickerington\, OH 43147
UID:e.1451.16264
SEQUENCE:3
DTSTAMP:20260422T215816Z
URL:https://business.pickeringtonchamber.com/events/details/home-garden-expo-16264
END:VEVENT

END:VCALENDAR
