BEGIN:VCALENDAR
VERSION:2.0
PRODID:-//ChamberMaster//Event Calendar 2.0//EN
METHOD:PUBLISH
X-PUBLISHED-TTL:P3D
REFRESH-INTERVAL:P3D
CALSCALE:GREGORIAN
BEGIN:VEVENT
DTSTART:20221029T130000Z
DTEND:20221030T223000Z
X-MICROSOFT-CDO-ALLDAYEVENT:FALSE
SUMMARY:Hollywood Feed Halloween Paw-ty
DESCRIPTION:Join us for a Halloween PAW-ty! We will have games and prizes and treats for both our 4 legged and 2 legged friends! Dress up your pet and bring them in to enter into our Costume Contest! We will have a spooky pet photo booth We will have a pet photographer in Oct 29th from 1pm-4pm if you would like more professional shots\, but the booth will stay up throughout the weekend for you to use! We will have raffle baskets with lots of goodies for your canine and/or feline friends! Every $50 you spend will get you a ticket to enter! Cause for Canines rescue group will be joining us with some adoptable pups in Oct 29th from 11am-1pm! We look forward to seeing you there!
X-ALT-DESC;FMTTYPE=text/html:Join us for a Halloween PAW-ty! We will have games and prizes and treats for both our 4 legged and 2 legged friends! Dress up your pet and bring them in to enter into our Costume Contest! We will have a spooky pet photo booth We will have a pet photographer in Oct 29th from 1pm-4pm if you would like more professional shots\, but the booth will stay up throughout the weekend for you to use! We will have raffle baskets with lots of goodies for your canine and/or feline friends! Every $50 you spend will get you a ticket to enter! Cause for Canines rescue group will be joining us with some adoptable pups in Oct 29th from 11am-1pm! We look forward to seeing you there!
LOCATION:Hollywood Feed 1023 Hill Rd N Pickerington\, OH 43147
UID:e.1451.15803
SEQUENCE:3
DTSTAMP:20260423T074657Z
URL:https://business.pickeringtonchamber.com/events/details/hollywood-feed-halloween-paw-ty-15803
END:VEVENT

END:VCALENDAR
