BEGIN:VCALENDAR
VERSION:2.0
PRODID:-//ChamberMaster//Event Calendar 2.0//EN
METHOD:PUBLISH
X-PUBLISHED-TTL:P3D
REFRESH-INTERVAL:P3D
CALSCALE:GREGORIAN
BEGIN:VEVENT
DTSTART;VALUE=DATE:20201205
DTEND;VALUE=DATE:20201206
TRANSP:TRANSPARENT
X-MICROSOFT-CDO-ALLDAYEVENT:TRUE
SUMMARY:Holiday Ornament - Grab & Go kit
DESCRIPTION:Santa is sad that he can't visit the library in person this year\, but he still brought holiday goodies to share!\n\n\n\n\n\n\n\n \n\nChoose from a penguin or dinosaur ornament or a Christmas tree luminaria craft. Grab & Go bags can be picked up at Pickerington Main or Sycamore Plaza.  Crafts are designed for ages 12 and under\, and available while supplies last.
X-ALT-DESC;FMTTYPE=text/html:<div>\n<div>\n<div style="margin-left:auto\; margin-right:auto">\n<p>Santa is sad that he can&#39\;t visit the library in person this year\, but he still brought holiday goodies to share!</p>\n</div>\n</div>\n</div>\n\n<div>\n<div>\n<div>\n<p>&nbsp\;</p>\n\n<p>Choose from a penguin or dinosaur ornament or a Christmas tree luminaria craft. Grab &amp\; Go bags can be picked up at Pickerington Main or Sycamore Plaza.&nbsp\; Crafts are designed for ages 12 and under\, and available while supplies last.&nbsp\;</p>\n</div>\n</div>\n</div>\n
LOCATION:
UID:e.1451.14824
SEQUENCE:3
DTSTAMP:20260424T190748Z
URL:https://business.pickeringtonchamber.com/events/details/holiday-ornament-grab-go-kit-14824
END:VEVENT

END:VCALENDAR
