BEGIN:VCALENDAR
VERSION:2.0
PRODID:-//ChamberMaster//Event Calendar 2.0//EN
METHOD:PUBLISH
X-PUBLISHED-TTL:P3D
REFRESH-INTERVAL:P3D
CALSCALE:GREGORIAN
BEGIN:VEVENT
DTSTART:20200715T160000Z
DTEND:20200715T170000Z
X-MICROSOFT-CDO-ALLDAYEVENT:FALSE
SUMMARY:High School Programs Information Session
DESCRIPTION:Over 55% of students don't know what to do after high school. But you can change that today. Empower your child to find their purpose.\n\n\n\n\n\n\n\nAbout this Event\n\n\n\nDoes your student know the career that is the best fit for them? Or taking it a step further\, do they know what it looks like? Or how to get there? Did you answer no to one or more of these questions? You are not the only one. According to EdSource\, over 55% of students don't know what they want to do after high school\, or how to get there. But not to worry\, we are here to help!\n\nPlease join us for a free information session on our upcoming high school workshops where we:\n\n\n	Explore the many different career options through research\, field trips and special guests\n	Administer multiple career and strengths assessments to help find the best career for your child\n	Create a career map and plan to get your student to their dream career (this can include internships\, college planning\, school to work planning\, and much more)\n	Personal money management such as budgeting\, debt\, savings\, retirement and big goals like buying a car or a house\, or saving for college\, etc.\n\n\nThis is a great opportunity for your student to really help them from where they are and get them where they want to go\, and supplement their high school experience. These workshops are for those entering the 9th through 12th grade\, so if you have a student who is already in high school or about to be\, this event is for you!\n\nBe sure to go to our website to learn more at www.designandrenew.com\n\nOur mission is to provide career exploration\, career prep\, and career and life guidance to students in the 9-12th grade as a supplement to their high school experience. We strive to increase career success\, fill the skills gap in the career and tech industry\, increase college and high school completion rates\, and decrease student debt in upcoming generations.\n\nOur founder has spent the last 10 years working in career tech\, higher education and industry. A graduate of the Ohio State University and Franklin University\, she brings a plethora of knowledge and experience to give you and your child the best experience possible.
X-ALT-DESC;FMTTYPE=text/html:<div>\n<div>\n<div>\n<div>\n<div><br />\n<strong>Over 55% of students don&#39\;t know what to do after high school. But you can change that today. Empower your child to find their purpose.</strong></div>\n</div>\n</div>\n</div>\n</div>\n\n<div>\n<div>\n<h2>About this Event</h2>\n\n<div>\n<div>\n<p>Does your student know the career that is the best fit for them? Or taking it a step further\, do they know what it looks like? Or how to get there? Did you answer no to one or more of these questions? You are not the only one. According to EdSource\, over 55% of students don&#39\;t know what they want to do after high school\, or how to get there. But not to worry\, we are here to help!</p>\n\n<p>Please join us for a free information session on our upcoming high school workshops where we:</p>\n\n<ul>\n	<li>Explore the many different career options through research\, field trips and special guests</li>\n	<li>Administer multiple career and strengths assessments to help find the best career for your child</li>\n	<li>Create a career map and plan to get your student to their dream career (this can include internships\, college planning\, school to work planning\, and much more)</li>\n	<li>Personal money management such as budgeting\, debt\, savings\, retirement and big goals like buying a car or a house\, or saving for college\, etc.</li>\n</ul>\n\n<p>This is a great opportunity for your student to really help them from where they are and get them where they want to go\, and supplement their high school experience. These workshops are for those entering the 9th through 12th grade\, so if you have a student who is already in high school or about to be\, this event is for you!</p>\n\n<p>Be sure to go to our website to learn more at&nbsp\;<a href="https://www.designandrenew.com/" rel="nofollow noopener noreferrer" style="color: var(--eds-control\,#3659e3)\; text-decoration-line: none\; cursor: pointer\; background-color: transparent\; padding-top: 0px\;" target="_blank">www.designandrenew.com</a></p>\n\n<p>Our mission is to provide career exploration\, career prep\, and career and life guidance to students in the 9-12th grade as a supplement to their high school experience. We strive to increase career success\, fill the skills gap in the career and tech industry\, increase college and high school completion rates\, and decrease student debt in upcoming generations.</p>\n\n<p>Our founder has spent the last 10 years working in career tech\, higher education and industry. A graduate of the Ohio State University and Franklin University\, she brings a plethora of knowledge and experience to give you and your child the best experience possible.</p>\n</div>\n</div>\n</div>\n</div>\n
LOCATION:Virtual Event Zoom link will be sent out 24 hours in advance and an hour prior to the meeting Register at: https://www.eventbrite.com/e/high-school-programs-information-session-tickets-110853870912
UID:e.1451.14529
SEQUENCE:3
DTSTAMP:20260425T024129Z
URL:https://business.pickeringtonchamber.com/events/details/high-school-programs-information-session-14529
END:VEVENT

END:VCALENDAR
