BEGIN:VCALENDAR
VERSION:2.0
PRODID:-//ChamberMaster//Event Calendar 2.0//EN
METHOD:PUBLISH
X-PUBLISHED-TTL:P3D
REFRESH-INTERVAL:P3D
CALSCALE:GREGORIAN
BEGIN:VEVENT
DTSTART:20200327T140000Z
DTEND:20200327T150000Z
X-MICROSOFT-CDO-ALLDAYEVENT:FALSE
SUMMARY:Helping Businesses Respond to COVID-19
DESCRIPTION:Helping Businesses Respond to COVID-19\n\n			What You Should Know\n\n			Live Webinar:  Friday\, March 27\, 2020\n\n			10:00 a.m. - 11:00 a.m. Eastern Time\n\n			Join us as we discuss important tax changes and resources available to help businesses respond to the coronavirus pandemic. \n\n			Specific topics include:\n			\n				Federal and State extensions for filing taxes and making payments\n				Tax credits and provisions of current and pending legislation\n				Ways to maximize cash availability \n				Access to Small Business Association (SBA) loans\n			\n			This Webinar will be hosted by leaders from our Tax Advisory Group\, Ben DiGirolamo\, CPA\, JD and Amy Dalen\, JD along with Manufacturing Industry Expert\, Amy Reynallt.
X-ALT-DESC;FMTTYPE=text/html:<table border="0" cellpadding="0" cellspacing="0" style="width:100.0%\;" width="100%">\n	<tbody>\n		<tr>\n			<td style="padding:15.0pt 30.0pt 15.0pt 30.0pt\;vertical-align:top\;"><strong><span style="background:yellow\;"><span style="color:#4D525A\;"><span style="font-family:arial\,sans-serif\;"><span style="font-size:18.0pt\;">Helping</span></span></span></span></strong><strong><span style="color:#4D525A\;"><span style="font-family:arial\,sans-serif\;"><span style="font-size:18.0pt\;"> <span style="background:yellow\;">Businesses</span> <span style="background:yellow\;">Respond</span> to COVID-19<br />\n			What You Should Know</span></span></span></strong><br />\n			<strong><span style="color:#4E9EB8\;"><span style="font-family:arial\,sans-serif\;"><span style="font-size:11.5pt\;">Live Webinar:&nbsp\;</span></span></span></strong><strong><span style="color:#4D525A\;"><span style="font-family:arial\,sans-serif\;"><span style="font-size:11.5pt\;"> Friday\, March 27\, 2020</span></span></span></strong><br />\n			<strong><span style="color:#4D525A\;"><span style="font-family:arial\,sans-serif\;"><span style="font-size:11.5pt\;">10:00 a.m. - 11:00 a.m. Eastern Time</span></span></span></strong><br />\n			<span style="color:#333333\;"><span style="font-family:arial\,sans-serif\;"><span style="font-size:11.5pt\;">Join us as we discuss important tax changes and resources available to help <span style="background:yellow\;">businesses</span> <span style="background:yellow\;">respond</span> to the coronavirus pandemic. </span></span></span><br />\n			<span style="color:#333333\;"><span style="font-family:arial\,sans-serif\;"><span style="font-size:11.5pt\;">Specific topics include:</span></span></span>\n			<ul>\n				<li style="color:#333333\;"><span style="font-family:arial\,sans-serif\;"><span style="font-size:11.5pt\;">Federal and State extensions for filing taxes and making payments</span></span></li>\n				<li style="color:#333333\;"><span style="font-family:arial\,sans-serif\;"><span style="font-size:11.5pt\;">Tax credits and provisions of current and pending legislation</span></span></li>\n				<li style="color:#333333\;"><span style="font-family:arial\,sans-serif\;"><span style="font-size:11.5pt\;">Ways to maximize cash availability&nbsp\;</span></span></li>\n				<li style="color:#333333\;"><span style="font-family:arial\,sans-serif\;"><span style="font-size:11.5pt\;">Access to Small Business Association (SBA) loans</span></span></li>\n			</ul>\n			<span style="color:#333333\;"><span style="font-family:arial\,sans-serif\;"><span style="font-size:11.5pt\;">This Webinar will be hosted by leaders from our Tax Advisory Group\, Ben DiGirolamo\, CPA\, JD and Amy Dalen\, JD along with Manufacturing Industry Expert\, Amy Reynallt.</span></span></span></td>\n		</tr>\n	</tbody>\n</table>\n
LOCATION:From the comfort of your office/home!
UID:e.1451.14305
SEQUENCE:3
DTSTAMP:20260425T105015Z
URL:https://business.pickeringtonchamber.com/events/details/helping-businesses-respond-to-covid-19-14305
END:VEVENT

END:VCALENDAR
