BEGIN:VCALENDAR
VERSION:2.0
PRODID:-//ChamberMaster//Event Calendar 2.0//EN
METHOD:PUBLISH
X-PUBLISHED-TTL:P3D
REFRESH-INTERVAL:P3D
CALSCALE:GREGORIAN
BEGIN:VEVENT
DTSTART:20220806T143000Z
DTEND:20220806T160000Z
X-MICROSOFT-CDO-ALLDAYEVENT:FALSE
SUMMARY:Healthy Mind and Body: How Self-Care Promotes Holistic Wellness
DESCRIPTION:Being holistically healthy means caring for your mind and body. Psychologist Dr. Kimberly Kohli will help guests develop a better understanding of mental health\, discuss symptoms of depression and anxiety\, and address the importance of practicing self-care.\n\nOrthopedic and sports medicine provider Dr. Nicole Sabatina will provide education about the benefits of physical activity and how adopting exercise as a form of self-care can help you create a happier body and brain.\n\nA free health screening and 7-day pass to the Robert K. Fox Family YMCA will be available to all attendees. In-person attendance is limited\, and registration is required by Aug. 4. Medical grade masks are required during the event.\n\nClick here to register.
X-ALT-DESC;FMTTYPE=text/html:<p>Being holistically healthy means caring for your mind and body. Psychologist Dr. Kimberly Kohli will help guests develop a better understanding of mental health\, discuss symptoms of depression and anxiety\, and address the importance of practicing self-care.</p>\n\n<p>Orthopedic and sports medicine provider Dr. Nicole Sabatina will provide education about the benefits of physical activity and how adopting exercise as a form of self-care can help you create a happier body and brain.</p>\n\n<p>A free health screening and 7-day pass to the Robert K. Fox Family YMCA will be available to all attendees. In-person attendance is limited\, and registration is required by Aug. 4. Medical grade masks are required during the event.</p>\n\n<p><a href="https://www.eventbrite.com/e/healthy-mind-and-body-how-self-care-promotes-holistic-wellness-tickets-315535795057">Click here to register.</a>&nbsp\;&nbsp\;</p>\n
LOCATION:FMC River Valley Campus - Community Rooms 2384 North Memorial Drive Lancaster\, OH 43130
UID:e.1451.15763
SEQUENCE:3
DTSTAMP:20260423T105727Z
URL:https://business.pickeringtonchamber.com/events/details/healthy-mind-and-body-how-self-care-promotes-holistic-wellness-15763
END:VEVENT

END:VCALENDAR
