BEGIN:VCALENDAR
VERSION:2.0
PRODID:-//ChamberMaster//Event Calendar 2.0//EN
METHOD:PUBLISH
X-PUBLISHED-TTL:P3D
REFRESH-INTERVAL:P3D
CALSCALE:GREGORIAN
BEGIN:VEVENT
DTSTART:20191030T220000Z
DTEND:20191031T000000Z
X-MICROSOFT-CDO-ALLDAYEVENT:FALSE
SUMMARY:Haunted Village
DESCRIPTION:Halloween fun for all ages.  Ghost tours\, story-telling\, hayrides\, trick or treating through the Olde Pickerington Village businesses\, haunted museum\, haunted house\, entertainment\, food and more!!\n\n\n\nVolunteers needed for ghost story tellers\, ghost tour guides\, ghost tour actors\, hay ride attendants\, and more.  Call the Parks and Recreation Department at 614-833-2211 for more information.
X-ALT-DESC;FMTTYPE=text/html:Halloween fun for all ages.&nbsp\; Ghost tours\, story-telling\, hayrides\, trick or treating through the Olde Pickerington Village businesses\, haunted museum\, haunted house\, entertainment\, food and more!!<br />\n<br />\nVolunteers needed for ghost story tellers\, ghost tour guides\, ghost tour actors\, hay ride attendants\, and more.&nbsp\; Call the Parks and Recreation Department at 614-833-2211 for more information.
LOCATION:Olde Pickerington Village
UID:e.1451.12937
SEQUENCE:3
DTSTAMP:20260425T190630Z
URL:https://business.pickeringtonchamber.com/events/details/haunted-village-12937
END:VEVENT

END:VCALENDAR
